BEGIN:VCALENDAR
VERSION:2.0
PRODID:-//IEO Lemosin - ECPv4.9.9//NONSGML v1.0//EN
CALSCALE:GREGORIAN
METHOD:PUBLISH
X-WR-CALNAME:IEO Lemosin
X-ORIGINAL-URL:http://ieo-lemosin.org
X-WR-CALDESC:Events for IEO Lemosin
BEGIN:VTIMEZONE
TZID:Europe/Paris
BEGIN:DAYLIGHT
TZOFFSETFROM:+0100
TZOFFSETTO:+0200
TZNAME:CEST
DTSTART:20210328T010000
END:DAYLIGHT
BEGIN:STANDARD
TZOFFSETFROM:+0200
TZOFFSETTO:+0100
TZNAME:CET
DTSTART:20211031T010000
END:STANDARD
END:VTIMEZONE
BEGIN:VEVENT
DTSTART;VALUE=DATE:20210702
DTEND;VALUE=DATE:20210829
DTSTAMP:20260423T050743
CREATED:20210601T105026Z
LAST-MODIFIED:20210616T153544Z
UID:7832-1625184000-1630195199@ieo-lemosin.org
SUMMARY:Mòstra/Exposition : Gravures de Pavel Macek sur des textes de Marcelle Delpastre
DESCRIPTION: \n18 textes de Marcelle Delpastre choisis dans Cinq heures du soir et L’Araignée et la rose et autres psaumes\, illustrés par des gravures de Pavel Macek. \n> Vernissage de l’exposition vendredi 2 juillet à 18h.\n> Entrée libre aux heures d’ouverture de la librairie\, dans le respect des mesures sanitaires : masque\, lavage des mains à l’entrée\, distanciation. \n> Une autre exposition de gravures de Pavel Macek sera visible du 3 juillet au 20 août à l’Atelier du Pont des Arts\, 9 Rue Porte-Panet à Limoges (Quartier Cathédrale). Vernissage le 3 juillet à 18h. \nPer ne’n saubre mai – Renseignements :\nLibrariá occitana – 05 55 32 06 44 / libraria.occitana@ieo-lemosin.org \n
URL:http://ieo-lemosin.org/evenement/mostra-exposition-gravures-de-pavel-macek-sur-des-textes-de-marcelle-delpastre
LOCATION:Librariá occitana\, 42\, rua Viena Nauta – rue Haute-Vienne\, Limòtges – Limoges (87)
CATEGORIES:Libraria Occitana
END:VEVENT
BEGIN:VEVENT
DTSTART;TZID=Europe/Paris:20210706T203000
DTEND;TZID=Europe/Paris:20210706T203000
DTSTAMP:20260423T050743
CREATED:20191228T084205Z
LAST-MODIFIED:20210531T124431Z
UID:6881-1625603400-1625603400@ieo-lemosin.org
SUMMARY:San Salvador en concert
DESCRIPTION: \nThibault Chaumeil : voix et tom bass\nEva Durif : voix et mains\nGabriel Durif : voix et tambourin\nMarion Lherbeil : voix et tom bass\nLaure Nonique Desvergnes : voix et mains\nSylvestre Nonique Desvergnes : voix\, cymbales de défilé miniature et grosse caisse \nSAN SALVADOR\, un concert et un moment exceptionnels à Bellac.\nSix voix\, deux toms\, douze mains et un tambourin \n« Six voix puissantes\, terriennes\, connectées\, presque chamaniques. Six voix qui chantent un folk tellurique et hypnotique\, soutenu par des percussions à l’autorité affirmée. Six voix qui font entendre la langue occitane de l’ouest du Massif Central à travers les festivals de toute l’Europe comme pour rappeler\, à une génération élevée aux transes électro\, toute une généalogie de ferveurs et de vertiges. \nCes six voix sont San Salvador\, dont le premier album va enfin arriver après que leur concert a fait sensation sur de nombreuses scènes. Ils sont six : un frère et une sœur\, un autre frère et une autre sœur\, et un garçon et une fille qui ne sont pas frère et sœur. Mais ils se connaissent depuis toujours et chantent ensemble depuis l’enfance. À Saint-Salvadour\, village du cœur de la Corrèze\, le père de deux d’entre eux a transmis à tous un patrimoine inestimable. Dans les années 70\, Olivier Durif était chanteur\, accordéoniste et violoniste dans le Grand Rouge\, groupe acteur de la même révolution folk que Malicorne ou Mélusine. Il a voulu sortir du répertoire canonique et s’est lancé dans le collectage auprès des personnes âgées de ce territoire rural. Outre des chansons de longue mémoire\, il a découvert que le bon vieux temps n’existait pas\, que ces répertoires vénérables avaient été neufs\, puis réinterprétés et réinventés pendant des générations. Et c’est ce qu’il a enseigné aux enfants de Saint-Salvadour. Alors\, en même temps qu’ils ont appris à chanter\, à harmoniser et à timbrer leurs voix selon l’héritage de leur région du Massif Central\, les jeunes gens et jeunes filles qui formeraient plus tard San Salvador ont appris une certaine liberté. Et\, aujourd’hui\, leur polyphonie est aussi enracinée que créative\, aussi « traditionnelle » que résolument contemporaine. Ils composent et construisent leur répertoire « à partir de textes qui ont circulé sur le territoire »\, comme le dit Gabriel Durif\, l’un d’entre eux. \nÉvidemment\, il y a eu maintes étapes entre les premières leçons de son père et l’engouement des festivals européens pour San Salvador. Ils sont passés par le rock et le punk\, se sont attachés à mêler des cuivres aux voix\, avant de revenir il y a six ans à l’a cappella\, qu’ils ont armé de deux toms et d’un tambourin. Ils ont refusé d’être spécialistes du bal folk\, mais veulent « une musique à la disposition de tous\, pour le public populaire à l’endroit où il est. Chacun\, d’où qu’il vienne\, a un lien enfoui avec le chant\, avec des ancêtres\, avec la ruralité. Nous retissons ce lien. » Ce qui explique le triomphe de festival en festival\, en 2019\, de ce groupe inclassable et furieusement intemporel. \nScène de l’après-midi ou concert en fin de soirée\, public estampillé folk ou assemblée de teufeurs\, ils percutent les consciences\, fascinent\, interrogent. On ne sait si l’effet qu’ils produisent est de la même famille que le jazz modal de John Coltrane\, l’hypnose du hard tech ou le bain sonore de My Bloody Valentine mais\, irrésistiblement\, on monte avec eux vers la transe. « Historiquement\, ce sont des musiques faites pour accompagner la danse ou le travail. D’où leur caractère cyclique\, leur insistance\, leur ritualité\, leur goût pour la répétition »\, explique Gabriel. Mais il y a autre chose dans la musique de San Salvador\, dont on ne sait si c’est inné ou acquis\, un héritage ou une création\, l’ivresse de la scène ou le génie naturel de la polyphonie : l’auditeur se sent emporté loin dans un ailleurs du temps qui\, curieusement\, est aussi familier que dépaysant. » (Bertrand Dicale\, journaliste\, France culture) \n« La musique tribale des Corréziens de San Salvador monte en un long crescendo puis explose avec fureur. » (Libération) \n« Un étonnant sextet armé de ses seules voix et de quelques percussions\, notez bien leur nom. » (Citizen Jazz) \n> Co-organisé avec le festival Zicanouic avec le soutien du Centre Régional des Musiques Traditionnelles en Limousin.\n> Tarif : 17€\, 14€\, 12€\, 5€. \nPer ne’n saubre mai – Renseignements\nThéâtre du Cloître (Rue Gérard Philipe – 87300 Bellac) – 05 55 60 87 61 – info@theatre-du-cloitre.fr – https://www.theatre-du-cloitre.fr/la-saison-2020-2021/san-salvador.html \n
URL:http://ieo-lemosin.org/evenement/san-salvador-en-concert
LOCATION:Théâtre du Cloître\, Belac – Bellac (87)
CATEGORIES:Monde Occitan
END:VEVENT
END:VCALENDAR