BEGIN:VCALENDAR
VERSION:2.0
PRODID:-//IEO Lemosin - ECPv4.9.9//NONSGML v1.0//EN
CALSCALE:GREGORIAN
METHOD:PUBLISH
X-WR-CALNAME:IEO Lemosin
X-ORIGINAL-URL:http://ieo-lemosin.org
X-WR-CALDESC:Events for IEO Lemosin
BEGIN:VTIMEZONE
TZID:Europe/Paris
BEGIN:DAYLIGHT
TZOFFSETFROM:+0100
TZOFFSETTO:+0200
TZNAME:CEST
DTSTART:20210328T010000
END:DAYLIGHT
BEGIN:STANDARD
TZOFFSETFROM:+0200
TZOFFSETTO:+0100
TZNAME:CET
DTSTART:20211031T010000
END:STANDARD
END:VTIMEZONE
BEGIN:VEVENT
DTSTART;VALUE=DATE:20211012
DTEND;VALUE=DATE:20211114
DTSTAMP:20260420T173900
CREATED:20210601T105026Z
LAST-MODIFIED:20211006T160134Z
UID:8096-1633996800-1636847999@ieo-lemosin.org
SUMMARY:Mòstra / Exposition : Peintures et gravures – Niurka Iñurrieta
DESCRIPTION: \nUne invitation à s’évader au rythme des couleurs et des lignes de cet empire végétal et marin où les rêves\, les désirs\, les angoisses et les peurs peuvent être abandonnés… \nNiurka Iñurrieta est artiste peintre et illustratrice\, diplômée de l’Académie des Beaux-Arts de San Alejandro (La Havane\, Cuba – 1995).\nElle a à son actif une soixantaine d’expositions en France et dans le monde. \n> Vernissage de l’exposition mercredi 13 octobre à 18h.\n> Entrée libre aux heures d’ouverture de la librairie\, dans le respect des mesures sanitaires (masque\, lavage des mains à l’entrée\, distanciation). \nPer ne’n saubre mai :\nLibrariá occitana – 05 55 32 06 44 / libraria.occitana@ieo-lemosin.org \n
URL:http://ieo-lemosin.org/evenement/mostra-exposition-peintures-et-gravures-niurka-inurrieta
LOCATION:Librariá occitana\, 42\, rua Viena Nauta – rue Haute-Vienne\, Limòtges – Limoges (87)
CATEGORIES:Libraria Occitana
END:VEVENT
END:VCALENDAR