BEGIN:VCALENDAR
VERSION:2.0
PRODID:-//IEO Lemosin - ECPv4.9.9//NONSGML v1.0//EN
CALSCALE:GREGORIAN
METHOD:PUBLISH
X-WR-CALNAME:IEO Lemosin
X-ORIGINAL-URL:http://ieo-lemosin.org
X-WR-CALDESC:Events for IEO Lemosin
BEGIN:VTIMEZONE
TZID:Europe/Paris
BEGIN:DAYLIGHT
TZOFFSETFROM:+0100
TZOFFSETTO:+0200
TZNAME:CEST
DTSTART:20210328T010000
END:DAYLIGHT
BEGIN:STANDARD
TZOFFSETFROM:+0200
TZOFFSETTO:+0100
TZNAME:CET
DTSTART:20211031T010000
END:STANDARD
END:VTIMEZONE
BEGIN:VEVENT
DTSTART;VALUE=DATE:20211203
DTEND;VALUE=DATE:20220101
DTSTAMP:20260421T030801
CREATED:20210601T105026Z
LAST-MODIFIED:20211126T113226Z
UID:8170-1638489600-1640995199@ieo-lemosin.org
SUMMARY:Mòstra / Exposition : « Champlevés » – Laurent Vaury
DESCRIPTION: \nLaurent Vaury expose ses émaux champlevés. \n> Entrée libre aux heures d’ouverture de la librairie\, dans le respect des mesures sanitaires (masque\, lavage des mains à l’entrée\, distanciation). \nPer ne’n saubre mai :\nLibrariá occitana – 05 55 32 06 44 / libraria.occitana@ieo-lemosin.org \n
URL:http://ieo-lemosin.org/evenement/mostra-exposition-champleves-laurent-vaury
LOCATION:Librariá occitana\, 42\, rua Viena Nauta – rue Haute-Vienne\, Limòtges – Limoges (87)
CATEGORIES:Libraria Occitana
END:VEVENT
END:VCALENDAR