BEGIN:VCALENDAR
VERSION:2.0
PRODID:-//IEO Lemosin - ECPv4.9.9//NONSGML v1.0//EN
CALSCALE:GREGORIAN
METHOD:PUBLISH
X-WR-CALNAME:IEO Lemosin
X-ORIGINAL-URL:http://ieo-lemosin.org
X-WR-CALDESC:Events for IEO Lemosin
BEGIN:VTIMEZONE
TZID:Europe/Paris
BEGIN:DAYLIGHT
TZOFFSETFROM:+0100
TZOFFSETTO:+0200
TZNAME:CEST
DTSTART:20230326T010000
END:DAYLIGHT
BEGIN:STANDARD
TZOFFSETFROM:+0200
TZOFFSETTO:+0100
TZNAME:CET
DTSTART:20231029T010000
END:STANDARD
END:VTIMEZONE
BEGIN:VEVENT
DTSTART;VALUE=DATE:20230404
DTEND;VALUE=DATE:20230514
DTSTAMP:20260421T214651
CREATED:20220407T154317Z
LAST-MODIFIED:20230328T183656Z
UID:9318-1680566400-1684022399@ieo-lemosin.org
SUMMARY:Mòstra/Exposition « Au bord du rivage » : Dessins\, émaux – Natacha Baluteau
DESCRIPTION:Au-delà VI \nC’est au cœur de l’atmosphère enveloppante de la Librariá occitana que la plasticienne Natacha Baluteau vous invite à prendre le temps. \nMarquer une pause au bord du rivage et se laisser aller à l’oisiveté…\nSont exposés un ensemble d’émaux et d’encres sur papier. De formats intimistes les œuvres présentées vous proposent une immersion dans un univers à la palette épurée\, fragmentée ou vaporeuse proche de l’abstraction. Une sensibilité propice à la rêverie et l’écoute des bruissements intérieurs. \n> Vernissage mercredi 5 avril à 18h\, en présence de l’artiste.\n> Visite libre aux heures d’ouverture de la librairie : mardi & jeudi 15h-19h\, mercredi & vendredi 10h-13h / 15h-19h\, samedi 10h-13h / 15h-18h. \nPer ne’n saubre mai – Renseignements :\nLibrariá occitana – 05 55 32 06 44 – libraria-occitana@ieo-lemosin.org \n
URL:http://ieo-lemosin.org/evenement/mostra-exposition-au-bord-du-rivage-dessins-emaux-natacha-baluteau
LOCATION:Librariá occitana\, 42\, rua Viena Nauta – rue Haute-Vienne\, Limòtges – Limoges (87)
CATEGORIES:Libraria Occitana
END:VEVENT
BEGIN:VEVENT
DTSTART;TZID=Europe/Paris:20230408T100000
DTEND;TZID=Europe/Paris:20230408T110000
DTSTAMP:20260421T214651
CREATED:20230103T155656Z
LAST-MODIFIED:20230320T133202Z
UID:9301-1680948000-1680951600@ieo-lemosin.org
SUMMARY:Atelier de conversation en occitan
DESCRIPTION:« Achabatz d’entrar ! Platusser\, clamper\, barjaquer\, chapler… ne sont que quelques-uns des termes employés en langue limousine pour exprimer l’action de discuter et d’échanger entre amateurs ou passionnés\, sur tous les sujets. L’association Balad’oc Tula propose dès le mois de janvier\, un atelier de conversation gratuit\, ouvert à tous sans connaissances particulières requises.\nAl plaser de vos vèire ! » \n> Séances prévues : samedis 21 janvier\, 25 février\, 25 mars\, 8 avril\, 13 mai\, 10 juin.\n> Rdv au petit salon.\n> Tout public.\n> Animé par l’association Balad’oc Tula. \nPer ne’n saubre mai – Renseignements\nMédiathèque intercommunale Éric Rohmer (Avenue Winston Churchill – 19000 Tulle) – 05 55 20 21 48 – mediatheque@tulleagglo.fr \n
URL:http://ieo-lemosin.org/evenement/atelier-de-conversation-en-occitan-4
LOCATION:Mediateca Intercomunala Eric Rohmer\, av. Winston Churchill\, Tula – Tulle (19)
CATEGORIES:Monde Occitan
END:VEVENT
END:VCALENDAR