BEGIN:VCALENDAR
VERSION:2.0
PRODID:-//IEO Lemosin - ECPv4.9.9//NONSGML v1.0//EN
CALSCALE:GREGORIAN
METHOD:PUBLISH
X-WR-CALNAME:IEO Lemosin
X-ORIGINAL-URL:http://ieo-lemosin.org
X-WR-CALDESC:Events for IEO Lemosin
BEGIN:VTIMEZONE
TZID:Europe/Paris
BEGIN:DAYLIGHT
TZOFFSETFROM:+0100
TZOFFSETTO:+0200
TZNAME:CEST
DTSTART:20230326T010000
END:DAYLIGHT
BEGIN:STANDARD
TZOFFSETFROM:+0200
TZOFFSETTO:+0100
TZNAME:CET
DTSTART:20231029T010000
END:STANDARD
END:VTIMEZONE
BEGIN:VEVENT
DTSTART;VALUE=DATE:20230704
DTEND;VALUE=DATE:20230903
DTSTAMP:20260421T154332
CREATED:20220407T154317Z
LAST-MODIFIED:20230627T181231Z
UID:9657-1688428800-1693699199@ieo-lemosin.org
SUMMARY:Mòstra/Exposition « Impressions d'été » : Gravures de l'atelier Eau forte
DESCRIPTION: \nAvec des œuvres de Véronique Beaure d’Augères\, Marylène Chalmin\, Niurka Iñurrieta\, Martine Marion\, Françoise Pecher\, Françoise Perrais\, Isabelle Serve\, Jan-Marc Simeonin\, Marianne Tixeuil & Annie Veyriras. \n> Vernissage mercredi 5 juillet à 18h\, en présence des artistes.\n> Visite libre aux heures d’ouverture de la librairie : mardi & jeudi 15h-19h\, mercredi & vendredi 10h-13h / 15h-19h\, samedi 10h-13h / 15h-18h.\n> Attention horaires d’été : du 7 au 27 août\, la librairie fermera tous les jours à 18h. \nPer ne’n saubre mai – Renseignements :\nLibrariá occitana – 05 55 32 06 44 – libraria-occitana@ieo-lemosin.org \n
URL:http://ieo-lemosin.org/evenement/mostra-exposition-impressions-dete-gravures-de-latelier-eau-forte
LOCATION:Librariá occitana\, 42\, rua Viena Nauta – rue Haute-Vienne\, Limòtges – Limoges (87)
CATEGORIES:Libraria Occitana
END:VEVENT
BEGIN:VEVENT
DTSTART;VALUE=DATE:20230825
DTEND;VALUE=DATE:20230827
DTSTAMP:20260421T154332
CREATED:20230720T075507Z
LAST-MODIFIED:20230720T075630Z
UID:9725-1692921600-1693094399@ieo-lemosin.org
SUMMARY:Fête de l'Agriculture Paysanne : Bal avec Super Novas + Concert de Brama
DESCRIPTION:Marché de producteurs\, débats\, conférence gesticulée\, soirées festives… La Conf vous attend pour un week-end festif autour des questions agricoles. Avec l’Adear du Limousin\, Terre de Liens\, Solidarité paysans\, Les Ami·es de la Conf\, Agrobio 19\, Faîte et Racines. \nVendredi 25\n\n18h : Marché paysan avec restauration sur place par les paysan·nes locaux et Les Fermes du Doustre\n\nSamedi 26\n\n9h : Balade ornitho avec la LPO\n\n14h : Conférence gesticulée\, table ronde\, spectacles…\n\n18h : Marché gourmand avec restauration sur place par les paysan·nes locaux\n\n21h : Bal avec Super Novas\n \n\n23h : Concert avec Brama\nEn s’engageant tête baissée dans les contre-allées du Massif Central\, Brama a choisi l’exigence impitoyable du trio pour exprimer pleinement la transe d’un rock psychédélique farouche et authentique\, celui qui rince la tête et fait décoller très loin\, une claque vertigineuse qui remet immédiatement les idées en place.\nGuitare et batterie en état d’hypnose\, vielle à roue transfigurée passée à la pédale\, bourdon taraudeur et chants en occitan lumineux\, Brama fait valser les clichés\, en allant puiser au plus profond de la tradition populaire de quoi modeler le plus contemporain des discours. Expérimental et libre comme l’air\, le jeune trio s’empare à bras le corps d’un folklore solaire et rayonnant\, où l’on danse avec force sueur et moult rage\, pour redessiner les traits d’une poésie orageuse\, un DIY pétaradant et polyphonique aux accents noise et au doux parfum de drone.\nMais si la chose musicale est fascinante\, câble tendu à l’extrême entre le corps ancestral d’une vielle toute-puissante et un guitare/batterie furibond\, c’est le chant\, arraché de ce maelström sonore\, qui finit d’élever cette construction inédite à des hauteurs rarement entrevues ici-bas. De concert\, le groupe tout entier ondule\, vire de bord et se plie aux exigences d’une matière sans cesse en mouvement\, loin des codes du binaire et du tout-venant.\nAussi près de l’usinage krautrock que du séminal zeppelinien\, cousin d’un Deerhoof ou d’un Altin Gün\, Brama a d’ailleurs laissé sur le cul un bon paquet de spectateur.rice.s et de professionnel.lle.s aux anges\, en témoigne la sélection 2021 des Inouïs du Printemps de Bourges.\nAujourd’hui\, au gré de ce ressac saturé d’électricité\, les deux pieds sur terre et la tête dans les étoiles\, le trio écrit le premier chapitre d’une odyssée radieuse et audacieuse. \n\nDJ toute la nuit\n\n> Organisée le groupe Jeunes de la Conf 19 \nPer ne’n saubre mai – Renseignements\nAnne – 07 82 95 22 42 – contact@confederation-paysanne-limousin.org \n \n
URL:http://ieo-lemosin.org/evenement/fete-de-lagriculture-paysanne-bal-avec-super-novas-concert-de-brama
LOCATION:La Bitarelle\, Gros-Chastang (19)
CATEGORIES:Monde Occitan
END:VEVENT
BEGIN:VEVENT
DTSTART;TZID=Europe/Paris:20230825T200000
DTEND;TZID=Europe/Paris:20230825T200000
DTSTAMP:20260421T154332
CREATED:20230724T120835Z
LAST-MODIFIED:20230724T120835Z
UID:9769-1692993600-1692993600@ieo-lemosin.org
SUMMARY:Balade nocturne à Puycheny – Jean-François Vignaud & Jean-Marie Pallier
DESCRIPTION:Visite des anciennes tuileries puis balade contée dans la lande et observation des constellations en compagnie de Jean-François Vignaud et Jean-Marie Pallier. \nLaissez-vous guider dans les anciennes tuileries. À l’heure où les « lunous » s’allumeront\, partez dans la lande d’où on extrayait l’argile utile à la fabrication de tuiles. Jean-François Vignaud de l’IEO Limousin vous contera comment l’obscurité se peuple d’êtres mystérieux\, et Jean-Marie Pallier vous fera contempler les étoiles et constellations. \n> Sur inscription avant le 21 août au 05 53 55 36 00.\n> Organisé par l’Atelier Musée de la Terre de Puycheny\, en partenariat avec le Parc Naturel Régional Périgord-Limousin\, dans le cadre des Actions Nuit du Parc. \nPer ne’n saubre mai e se marcar – Renseignements & inscriptions\nPNR Périgord-Limousin – 05 53 55 36 00 \n \n
URL:http://ieo-lemosin.org/evenement/balade-nocturne-a-puycheny-jean-francois-vignaud-jean-marie-pallier
LOCATION:Atelier-Musée de la Terre\, Sent Alari las Plaças – Saint-Hilaire-les-Places (87)
CATEGORIES:IEO Lemosin
END:VEVENT
END:VCALENDAR