BEGIN:VCALENDAR
VERSION:2.0
PRODID:-//IEO Lemosin - ECPv4.9.9//NONSGML v1.0//EN
CALSCALE:GREGORIAN
METHOD:PUBLISH
X-WR-CALNAME:IEO Lemosin
X-ORIGINAL-URL:http://ieo-lemosin.org
X-WR-CALDESC:Events for IEO Lemosin
BEGIN:VTIMEZONE
TZID:Europe/Paris
BEGIN:DAYLIGHT
TZOFFSETFROM:+0100
TZOFFSETTO:+0200
TZNAME:CEST
DTSTART:20230326T010000
END:DAYLIGHT
BEGIN:STANDARD
TZOFFSETFROM:+0200
TZOFFSETTO:+0100
TZNAME:CET
DTSTART:20231029T010000
END:STANDARD
END:VTIMEZONE
BEGIN:VEVENT
DTSTART;VALUE=DATE:20230905
DTEND;VALUE=DATE:20231015
DTSTAMP:20260421T125053
CREATED:20220407T154317Z
LAST-MODIFIED:20230905T173750Z
UID:9833-1693872000-1697327999@ieo-lemosin.org
SUMMARY:Mòstra/Exposition « Voyages immobiles... ou presque » : Peintures sur bois de Martine Brodzki
DESCRIPTION: \nPanneaux bois\, peinture\, colle de peau & pigments de couleur. \n> Vernissage mardi 5 septembre à 18h\, en présence de l’artiste.\n> Visite libre aux heures d’ouverture de la librairie : mardi & jeudi 15h-19h\, mercredi & vendredi 10h-13h / 15h-19h\, samedi 10h-13h / 15h-18h. \nPer ne’n saubre mai – Renseignements :\nLibrariá occitana – 05 55 32 06 44 – libraria-occitana@ieo-lemosin.org \n
URL:http://ieo-lemosin.org/evenement/mostra-exposition-voyages-immobiles-ou-presque-peintures-sur-bois-de-martine-brodzki
LOCATION:Librariá occitana\, 42\, rua Viena Nauta – rue Haute-Vienne\, Limòtges – Limoges (87)
CATEGORIES:Libraria Occitana
END:VEVENT
BEGIN:VEVENT
DTSTART;TZID=Europe/Paris:20231012T140000
DTEND;TZID=Europe/Paris:20231012T180000
DTSTAMP:20260421T125053
CREATED:20230928T104308Z
LAST-MODIFIED:20230928T121511Z
UID:9951-1697119200-1697133600@ieo-lemosin.org
SUMMARY:Los apres-miegjorn de l'IEO : Les troubadours 1/2 – Gérard Gonfroy
DESCRIPTION: \nTitulaire d’un doctorat portant sur les Leys d’Amors\, Gérard Gonfroy a entre autres enseigné l’ancien français et l’ancien occitan au Centre d’Études Supérieures de Civilisation Médiévale de l’Université de Poitiers\, puis ces mêmes disciplines à l’Université de Limoges. \nIl est l’un des rares spécialistes français de l’ancien occitan\, c’est-à-dire de la langue des troubadours. \nIl a récemment publié Les Troubadours limousins aux éditions La Geste (2022). \n\nPremière séance (12 octobre) : Généralités\nDeuxième séance (23 novembre) : Étude de textes\n\nLos apres-miegjorn de l’IEO : Cycle de conférences traitant de la culture occitane en Limousin dispensées dans le cadre de la formation ENSENHAR (IEO Lemosin/Novelum IEO 24)\, nous souhaitions ouvrir ces conférences à tous les publics intéressés. \n> Tarif : 5 € la séance.\n> Limité à 12 places\, réservation obligatoire au 05 55 32 06 44 ou à libraria.occitana@ieo-lemosin.org.\n> En français. \nPer ne’n saubre mai – Renseignements\nLibrariá occitana – 05 55 32 06 44 – libraria.occitana@ieo-lemosin.org \n
URL:http://ieo-lemosin.org/evenement/los-apres-miegjorn-de-lieo-les-troubadours-1-2-gerard-gonfroy
LOCATION:Librariá occitana\, 42\, rua Viena Nauta – rue Haute-Vienne\, Limòtges – Limoges (87)
CATEGORIES:Libraria Occitana
END:VEVENT
BEGIN:VEVENT
DTSTART;TZID=Europe/Paris:20231012T200000
DTEND;TZID=Europe/Paris:20231012T200000
DTSTAMP:20260421T125053
CREATED:20230918T155652Z
LAST-MODIFIED:20230918T155652Z
UID:9879-1697140800-1697140800@ieo-lemosin.org
SUMMARY:L'univers chansonnier de Melhau
DESCRIPTION: \nJan dau Melhau est né en 1948 à Limoges. \nÉcrivain de langue occitane\, musicien\, chanteur\, collecteur\, éditeur\, il est avant tout homme de spectacle. \nIl nous propose pour cette soirée une rétrospective de son œuvre chantée. \nDes chants de troubadours de l’âge roman\, des chants traditionnels\, des créations\, des traductions en occitan des œuvres de Georges Brassens et Gaston Couté. Œuvres qu’il a mises en musique\, comme il l’a fait de nombreux poètes occitans tels que Jean-Baptiste Chèze ou Paul-Louis Grenier… \nUne soirée exceptionnelle\, au cours de laquelle nous aurons l’occasion de voir un interprète de qualité qui se fait bien rare sur les scènes de la région. \n> Tarifs : 11 €\, réduit 7 €.\n> Organisé par l’IEO Limousin en partenariat avec le Service des Archives Municipales de Brive. \nPer ne’n saubre mai e se marcar – Renseignements & réservations\nThéâtre de la Grange (12 Rue René Glangeaud – 19100 Brive) – 05 55 86 97 99 \n
URL:http://ieo-lemosin.org/evenement/lunivers-chansonnier-de-melhau
LOCATION:Teatre – Théâtre de la Grange\, Rivet\, Briva – Brive (19)
CATEGORIES:IEO Lemosin
END:VEVENT
END:VCALENDAR