BEGIN:VCALENDAR
VERSION:2.0
PRODID:-//IEO Lemosin - ECPv4.9.9//NONSGML v1.0//EN
CALSCALE:GREGORIAN
METHOD:PUBLISH
X-WR-CALNAME:IEO Lemosin
X-ORIGINAL-URL:http://ieo-lemosin.org
X-WR-CALDESC:Events for IEO Lemosin
BEGIN:VTIMEZONE
TZID:Europe/Paris
BEGIN:DAYLIGHT
TZOFFSETFROM:+0100
TZOFFSETTO:+0200
TZNAME:CEST
DTSTART:20240331T010000
END:DAYLIGHT
BEGIN:STANDARD
TZOFFSETFROM:+0200
TZOFFSETTO:+0100
TZNAME:CET
DTSTART:20241027T010000
END:STANDARD
END:VTIMEZONE
BEGIN:VEVENT
DTSTART;VALUE=DATE:20240305
DTEND;VALUE=DATE:20240428
DTSTAMP:20260421T043143
CREATED:20220407T154317Z
LAST-MODIFIED:20240219T150911Z
UID:10288-1709596800-1714262399@ieo-lemosin.org
SUMMARY:Mòstra/Exposition « Vagamondis » : Émaux de Christelle Derenne
DESCRIPTION: \n“Après m’être essayée à la peinture et à la photographie\, j’ai « rencontré » l’émail sur cuivre. J’en ai fait mon médium de prédilection\, parce qu’en émail tout est contrainte. Les dimensions\, les couleurs\, les formes… et réaliser le tableau que l’on a en tête est toujours un challenge. Il oblige à une réflexion systématique\, à de nombreuses heures d’expérimentation et une grande maîtrise technique. \nMon travail est avant tout une affaire de contrastes\, je travaille presque exclusivement le noir et le blanc.\nLe contrejour permet de changer les rapports et de mettre au second plan ce qui semble être le sujet principal. Des images tantôt énigmatiques\, tantôt poétiques.\nMettre le décor dans l’ombre et laisser à voir au-delà\, l’infini du ciel\, pour interroger notre rapport au majestueux.” \n> Vernissage mardi 5 mars à 18h\, en présence de l’artiste.\n> Visite libre aux heures d’ouverture de la librairie : mardi & jeudi 15h-19h\, mercredi & vendredi 10h-13h / 15h-19h\, samedi 10h-13h / 15h-18h. \nPer ne’n saubre mai – Renseignements :\nLibrariá occitana – 05 55 32 06 44 – libraria-occitana@ieo-lemosin.org \n
URL:http://ieo-lemosin.org/evenement/mostra-exposition-vagamondis-emaux-de-christelle-derenne
LOCATION:Librariá occitana\, 42\, rua Viena Nauta – rue Haute-Vienne\, Limòtges – Limoges (87)
CATEGORIES:Libraria Occitana
END:VEVENT
BEGIN:VEVENT
DTSTART;TZID=Europe/Paris:20240323T140000
DTEND;TZID=Europe/Paris:20240323T140000
DTSTAMP:20260421T043143
CREATED:20210714T162755Z
LAST-MODIFIED:20240319T155050Z
UID:10355-1711202400-1711202400@ieo-lemosin.org
SUMMARY:Représentation de la troupe Bat de l'Aile « L'amour est dans le train » (avec de l'occitan)
DESCRIPTION:« Une pièce de théâtre en 2 actes qui touchera à l’actualité d’une manière décalée et burlesque. La langue limousine ne sera pas oubliée (les passages en langue régionale sont compréhensibles de tous : le personnage occitan donne toujours la réplique à un personnage français). » \n \n
URL:http://ieo-lemosin.org/evenement/representation-de-la-troupe-bat-de-laile-lamour-est-dans-le-train-avec-de-loccitan
LOCATION:Sala de las festas – Salle des fêtes\, Meusac – Meuzac (87)
CATEGORIES:Monde Occitan
END:VEVENT
BEGIN:VEVENT
DTSTART;TZID=Europe/Paris:20240323T143000
DTEND;TZID=Europe/Paris:20240323T143000
DTSTAMP:20260421T043143
CREATED:20240214T170425Z
LAST-MODIFIED:20240326T104813Z
UID:10393-1711204200-1711204200@ieo-lemosin.org
SUMMARY:Atelier occitan : « Le patois de Terrasson » d'après les écrits du Dr Charles Feytaud – Pascal Boudy
DESCRIPTION: \n
URL:http://ieo-lemosin.org/evenement/atelier-occitan-le-patois-de-terrasson-dapres-les-ecrits-du-dr-charles-feytaud-pascal-boudy-marc-2023
LOCATION:Maison dau Patrimòni – Maison du Patrimoine\, Rue du Couvent\, Terrasson (24)
CATEGORIES:IEO Lemosin
END:VEVENT
BEGIN:VEVENT
DTSTART;TZID=Europe/Paris:20240323T190000
DTEND;TZID=Europe/Paris:20240323T190000
DTSTAMP:20260421T043143
CREATED:20240201T164652Z
LAST-MODIFIED:20240301T121915Z
UID:10243-1711220400-1711220400@ieo-lemosin.org
SUMMARY:Journée Ferme ouverte : Spectacle « Veici ven ! » – Malika Verlaguet & Céline Mistral
DESCRIPTION: \n \n
URL:http://ieo-lemosin.org/evenement/journee-ferme-ouverte-spectacle-veici-ven-malika-verlaguet-celine-mistral
LOCATION:Ferme fromagère Lou Roc\, Saint-Martin-la-Méanne (19)
CATEGORIES:Monde Occitan
END:VEVENT
BEGIN:VEVENT
DTSTART;TZID=Europe/Paris:20240323T210000
DTEND;TZID=Europe/Paris:20240323T210000
DTSTAMP:20260421T043143
CREATED:20210714T162755Z
LAST-MODIFIED:20240319T155150Z
UID:10362-1711227600-1711227600@ieo-lemosin.org
SUMMARY:Représentation de la troupe Bat de l'Aile « L'amour est dans le train » (avec de l'occitan)
DESCRIPTION:« Une pièce de théâtre en 2 actes qui touchera à l’actualité d’une manière décalée et burlesque. La langue limousine ne sera pas oubliée (les passages en langue régionale sont compréhensibles de tous : le personnage occitan donne toujours la réplique à un personnage français). » \n \n
URL:http://ieo-lemosin.org/evenement/representation-de-la-troupe-bat-de-laile-lamour-est-dans-le-train-avec-de-loccitan-2
LOCATION:Sala de las festas – Salle des fêtes\, Meusac – Meuzac (87)
CATEGORIES:Monde Occitan
END:VEVENT
END:VCALENDAR