BEGIN:VCALENDAR
VERSION:2.0
PRODID:-//IEO Lemosin - ECPv4.9.9//NONSGML v1.0//EN
CALSCALE:GREGORIAN
METHOD:PUBLISH
X-WR-CALNAME:IEO Lemosin
X-ORIGINAL-URL:http://ieo-lemosin.org
X-WR-CALDESC:Events for IEO Lemosin
BEGIN:VTIMEZONE
TZID:Europe/Paris
BEGIN:DAYLIGHT
TZOFFSETFROM:+0100
TZOFFSETTO:+0200
TZNAME:CEST
DTSTART:20240331T010000
END:DAYLIGHT
BEGIN:STANDARD
TZOFFSETFROM:+0200
TZOFFSETTO:+0100
TZNAME:CET
DTSTART:20241027T010000
END:STANDARD
END:VTIMEZONE
BEGIN:VEVENT
DTSTART;VALUE=DATE:20240305
DTEND;VALUE=DATE:20240428
DTSTAMP:20260421T043137
CREATED:20220407T154317Z
LAST-MODIFIED:20240219T150911Z
UID:10288-1709596800-1714262399@ieo-lemosin.org
SUMMARY:Mòstra/Exposition « Vagamondis » : Émaux de Christelle Derenne
DESCRIPTION: \n“Après m’être essayée à la peinture et à la photographie\, j’ai « rencontré » l’émail sur cuivre. J’en ai fait mon médium de prédilection\, parce qu’en émail tout est contrainte. Les dimensions\, les couleurs\, les formes… et réaliser le tableau que l’on a en tête est toujours un challenge. Il oblige à une réflexion systématique\, à de nombreuses heures d’expérimentation et une grande maîtrise technique. \nMon travail est avant tout une affaire de contrastes\, je travaille presque exclusivement le noir et le blanc.\nLe contrejour permet de changer les rapports et de mettre au second plan ce qui semble être le sujet principal. Des images tantôt énigmatiques\, tantôt poétiques.\nMettre le décor dans l’ombre et laisser à voir au-delà\, l’infini du ciel\, pour interroger notre rapport au majestueux.” \n> Vernissage mardi 5 mars à 18h\, en présence de l’artiste.\n> Visite libre aux heures d’ouverture de la librairie : mardi & jeudi 15h-19h\, mercredi & vendredi 10h-13h / 15h-19h\, samedi 10h-13h / 15h-18h. \nPer ne’n saubre mai – Renseignements :\nLibrariá occitana – 05 55 32 06 44 – libraria-occitana@ieo-lemosin.org \n
URL:http://ieo-lemosin.org/evenement/mostra-exposition-vagamondis-emaux-de-christelle-derenne
LOCATION:Librariá occitana\, 42\, rua Viena Nauta – rue Haute-Vienne\, Limòtges – Limoges (87)
CATEGORIES:Libraria Occitana
END:VEVENT
BEGIN:VEVENT
DTSTART;TZID=Europe/Paris:20240324T100000
DTEND;TZID=Europe/Paris:20240324T180000
DTSTAMP:20260421T043137
CREATED:20210916T145624Z
LAST-MODIFIED:20240301T173428Z
UID:10340-1711274400-1711303200@ieo-lemosin.org
SUMMARY:La Librariá occitana a la Jornada dau Libre
DESCRIPTION: \n \n
URL:http://ieo-lemosin.org/evenement/la-libraria-occitana-a-la-jornada-dau-libre-2024
LOCATION:Sala de las festas – Salle des fêtes\, Sent Martin de Jussac – Saint-Martin-de-Jussac (87)
CATEGORIES:Libraria Occitana
END:VEVENT
BEGIN:VEVENT
DTSTART;TZID=Europe/Paris:20240324T143000
DTEND;TZID=Europe/Paris:20240324T143000
DTSTAMP:20260421T043137
CREATED:20210714T162755Z
LAST-MODIFIED:20240319T155253Z
UID:10364-1711290600-1711290600@ieo-lemosin.org
SUMMARY:Représentation de la troupe Bat de l'Aile « L'amour est dans le train » (avec de l'occitan)
DESCRIPTION:« Une pièce de théâtre en 2 actes qui touchera à l’actualité d’une manière décalée et burlesque. La langue limousine ne sera pas oubliée (les passages en langue régionale sont compréhensibles de tous : le personnage occitan donne toujours la réplique à un personnage français). » \n \n
URL:http://ieo-lemosin.org/evenement/representation-de-la-troupe-bat-de-laile-lamour-est-dans-le-train-avec-de-loccitan-3
LOCATION:Sala de las festas – Salle des fêtes\, Meusac – Meuzac (87)
CATEGORIES:Monde Occitan
END:VEVENT
END:VCALENDAR