BEGIN:VCALENDAR
VERSION:2.0
PRODID:-//IEO Lemosin - ECPv4.9.9//NONSGML v1.0//EN
CALSCALE:GREGORIAN
METHOD:PUBLISH
X-WR-CALNAME:IEO Lemosin
X-ORIGINAL-URL:http://ieo-lemosin.org
X-WR-CALDESC:Events for IEO Lemosin
BEGIN:VTIMEZONE
TZID:Europe/Paris
BEGIN:DAYLIGHT
TZOFFSETFROM:+0100
TZOFFSETTO:+0200
TZNAME:CEST
DTSTART:20240331T010000
END:DAYLIGHT
BEGIN:STANDARD
TZOFFSETFROM:+0200
TZOFFSETTO:+0100
TZNAME:CET
DTSTART:20241027T010000
END:STANDARD
END:VTIMEZONE
BEGIN:VEVENT
DTSTART;VALUE=DATE:20240305
DTEND;VALUE=DATE:20240428
DTSTAMP:20260421T030622
CREATED:20220407T154317Z
LAST-MODIFIED:20240219T150911Z
UID:10288-1709596800-1714262399@ieo-lemosin.org
SUMMARY:Mòstra/Exposition « Vagamondis » : Émaux de Christelle Derenne
DESCRIPTION: \n“Après m’être essayée à la peinture et à la photographie\, j’ai « rencontré » l’émail sur cuivre. J’en ai fait mon médium de prédilection\, parce qu’en émail tout est contrainte. Les dimensions\, les couleurs\, les formes… et réaliser le tableau que l’on a en tête est toujours un challenge. Il oblige à une réflexion systématique\, à de nombreuses heures d’expérimentation et une grande maîtrise technique. \nMon travail est avant tout une affaire de contrastes\, je travaille presque exclusivement le noir et le blanc.\nLe contrejour permet de changer les rapports et de mettre au second plan ce qui semble être le sujet principal. Des images tantôt énigmatiques\, tantôt poétiques.\nMettre le décor dans l’ombre et laisser à voir au-delà\, l’infini du ciel\, pour interroger notre rapport au majestueux.” \n> Vernissage mardi 5 mars à 18h\, en présence de l’artiste.\n> Visite libre aux heures d’ouverture de la librairie : mardi & jeudi 15h-19h\, mercredi & vendredi 10h-13h / 15h-19h\, samedi 10h-13h / 15h-18h. \nPer ne’n saubre mai – Renseignements :\nLibrariá occitana – 05 55 32 06 44 – libraria-occitana@ieo-lemosin.org \n
URL:http://ieo-lemosin.org/evenement/mostra-exposition-vagamondis-emaux-de-christelle-derenne
LOCATION:Librariá occitana\, 42\, rua Viena Nauta – rue Haute-Vienne\, Limòtges – Limoges (87)
CATEGORIES:Libraria Occitana
END:VEVENT
BEGIN:VEVENT
DTSTART;TZID=Europe/Paris:20240412T140000
DTEND;TZID=Europe/Paris:20240412T170000
DTSTAMP:20260421T030622
CREATED:20230928T104308Z
LAST-MODIFIED:20240201T165921Z
UID:10248-1712930400-1712941200@ieo-lemosin.org
SUMMARY:Los apres-miegjorn de l'IEO : La création littéraire d'expression occitane en Limousin : De la dernière guerre à aujourd'hui : Du limousin à l'occitan 3/3 – Jan dau Melhau
DESCRIPTION: \nJan dau Melhau est né en 1948 à Limoges. Écrivain de langue occitane à géométrie variable (roman\, nouvelles\, contes\, poèmes\, épigrammes\, aphorismes\, recueils de chansons\, de prières ou de proverbes\, almanachs\, etc.)\, il est aussi éditeur (Lo chamin de sent Jaume) et homme de spectacle : musicien\, chanteur\, conteur\, diseur. \n\nPremière séance (8 décembre 2023) : Du baroque tardif à la renaissance félibréenne : Du patois au limousin\nDeuxième séance (16 février 2024) : De 1850 à la dernière guerre : Du limousin à l’occitan – Jan dau Melhau\nTroisième séance (12 avril 2024) : De la dernière guerre à aujourd’hui : Du limousin à l’occitan – Jan dau Melhau\n\nLos apres-miegjorn de l’IEO : Cycle de conférences traitant de la culture occitane en Limousin dispensées dans le cadre de la formation ENSENHAR (IEO Lemosin/Novelum IEO 24)\, nous souhaitions ouvrir ces conférences à tous les publics intéressés. \n> Tarif : 5 € la séance.\n> Limité à 12 places\, réservation obligatoire au 05 55 32 06 44 ou à libraria.occitana@ieo-lemosin.org.\n> En français. \nPer ne’n saubre mai – Renseignements\nLibrariá occitana – 05 55 32 06 44 – libraria.occitana@ieo-lemosin.org \n
URL:http://ieo-lemosin.org/evenement/los-apres-miegjorn-de-lieo-la-creation-litteraire-dexpression-occitane-en-limousin-de-la-derniere-guerre-a-aujourdhui-du-limousin-a-loccitan-3-3-jan-dau-melhau
LOCATION:Librariá occitana\, 42\, rua Viena Nauta – rue Haute-Vienne\, Limòtges – Limoges (87)
CATEGORIES:Libraria Occitana
END:VEVENT
BEGIN:VEVENT
DTSTART;TZID=Europe/Paris:20240412T183000
DTEND;TZID=Europe/Paris:20240412T183000
DTSTAMP:20260421T030622
CREATED:20230404T063202Z
LAST-MODIFIED:20240312T201135Z
UID:10352-1712946600-1712946600@ieo-lemosin.org
SUMMARY:Pépites en stock 2024 : Lectures : Imaginaris e realitats dau còrps – Monica Burg
DESCRIPTION:Dans le cadre de « Pépites en stock »\, deux semaines d’événements en librairie dans toute la Nouvelle-Aquitaine\, du 8 au 21 avril 2024. Une manifestation coordonnée par l’association des Librairies Indépendantes en Nouvelle-Aquitaine. \nCette nouvelle édition met en lumière des auteurs et des livres qui explorent le corps à travers la lecture. \n \nCorps séduisant\, corps enchanteur\, corps-à-corps\, corps usé\, corps amoché\, corps sale\, corps mort… le corps dans tous ses états…\nÀ la Librariá occitana\, la comédienne-conteuse Monica Burg vous proposera un pot-pourri de lectures\, en occitan et en français. \n> Participation libre au chapeau.\n> Nombre de places limité\, pensez à réserver !\n> En occitan et en français. \nPer ne’n saubre mai e se marcar – Renseignements et réservations\nLibrariá occitana – 05 55 32 06 44 – libraria.occitana@ieo-lemosin.org \n
URL:http://ieo-lemosin.org/evenement/pepites-en-stock-2024-lectures-imaginaris-e-realitats-dau-corps-monica-burg
LOCATION:Librariá occitana\, 42\, rua Viena Nauta – rue Haute-Vienne\, Limòtges – Limoges (87)
CATEGORIES:Libraria Occitana
END:VEVENT
BEGIN:VEVENT
DTSTART;TZID=Europe/Paris:20240412T190000
DTEND;TZID=Europe/Paris:20240412T220000
DTSTAMP:20260421T030622
CREATED:20240131T142627Z
LAST-MODIFIED:20240213T131147Z
UID:10228-1712948400-1712959200@ieo-lemosin.org
SUMMARY:Bal trad' en duo's #1 : Duo Ancelin-Rouzier - Aux bon saucissons limousins - Duo Rivaud-Lacouchie
DESCRIPTION: \n
URL:http://ieo-lemosin.org/evenement/bal-trad-en-duos-1-duo-ancelin-rouzier-aux-bon-saucissons-limousins-duo-rivaud-lacouchie
LOCATION:Centre Culturau – Centre Culturel Jean Gagnant\, Limòtges – Limoges (87)
CATEGORIES:Monde Occitan
END:VEVENT
END:VCALENDAR