BEGIN:VCALENDAR
VERSION:2.0
PRODID:-//IEO Lemosin - ECPv4.9.9//NONSGML v1.0//EN
CALSCALE:GREGORIAN
METHOD:PUBLISH
X-WR-CALNAME:IEO Lemosin
X-ORIGINAL-URL:http://ieo-lemosin.org
X-WR-CALDESC:Events for IEO Lemosin
BEGIN:VTIMEZONE
TZID:Europe/Paris
BEGIN:DAYLIGHT
TZOFFSETFROM:+0100
TZOFFSETTO:+0200
TZNAME:CEST
DTSTART:20240331T010000
END:DAYLIGHT
BEGIN:STANDARD
TZOFFSETFROM:+0200
TZOFFSETTO:+0100
TZNAME:CET
DTSTART:20241027T010000
END:STANDARD
END:VTIMEZONE
BEGIN:VEVENT
DTSTART;VALUE=DATE:20240430
DTEND;VALUE=DATE:20240701
DTSTAMP:20260420T235553
CREATED:20240328T223027Z
LAST-MODIFIED:20240329T103130Z
UID:10407-1714435200-1719791999@ieo-lemosin.org
SUMMARY:Mòstra/Exposition photo « Chabretas e chabretaires : Pratiques d'une cornemuse du Limousin »
DESCRIPTION:Dans le cadre de « Chabretadas – Festival Chabrettes à Limoges » en mai-juin 2024. \n\n \n> Vernissage mardi 30 avril à 18h. Présentation musicale de l’exposition avec des chabretaires et musiciens invités. Réservation conseillée au 05 55 32 06 44.\n> Visite libre et gratuite aux heures d’ouverture de la librairie : mardi & jeudi 15h-19h\, mercredi & vendredi 10h-13h / 15h-19h\, samedi 10h-13h / 15h-18h.\n> À noter que deux expositions complémentaires sur la chabrette seront visibles aux mêmes dates : \n\nune exposition d’instruments anciens au musée des Beaux-Arts avec un temps fort prévu dimanche 2 juin à 15h : Animations musicales par les élèves du Conservatoire\nune exposition de la Compagnie Amalthée à la Bfm\, explications diverses sur les cornemuses\, la particularité de la chabrette\, son jeu\, son histoire\, etc avec un temps fort prévu samedi 8 juin à 15h : Visite guidée de l’exposition par Gaëtan Polteau\n\nPer ne’n saubre mai – Renseignements :\nLibrariá occitana – 05 55 32 06 44 – libraria-occitana@ieo-lemosin.org \n \n\n
URL:http://ieo-lemosin.org/evenement/mostra-exposition-photo-chabretas-e-chabretaires-pratiques-dune-cornemuse-du-limousin
LOCATION:Librariá occitana\, 42\, rua Viena Nauta – rue Haute-Vienne\, Limòtges – Limoges (87)
CATEGORIES:Libraria Occitana
END:VEVENT
BEGIN:VEVENT
DTSTART;VALUE=DATE:20240531
DTEND;VALUE=DATE:20240603
DTSTAMP:20260420T235553
CREATED:20230724T162151Z
LAST-MODIFIED:20240506T122449Z
UID:9779-1717113600-1717372799@ieo-lemosin.org
SUMMARY:Balaviris 2024 : Farem tot Petar + Arquèthi + Trencadit + Bougnat Sound + Planchée + Plume duo + Aàgut + La Sylva + Jean-François Vignaud
DESCRIPTION:Vendredi 31 mai\n\n20h00 : Ouverture des portes\n20h30 : Bal avec :\n\n​​20h30-22h30 : Farem tot Petar\n23h00-1h00 : Arquèthi\n01h30-03h30 : Trencadit\n22h30 & 01h00 : Inter-Plateau\nBœuf musical\n\n\n\n​Samedi 01 juin journée\n​Ateliers et conférence : \n\n10h30-12h00 : La Sylva (Atelier trad. & Créativité)\n11h00-13h00 : Hugo Orliaguet (Atelier Découverte / Initiation Diato)\n13h30-15h30 : Planchée (Atelier de danses de Haute-Bretagne)\n14h00-16h30 : Louise Le Creurer (Chant / Limousin – Auvergne)\n15h00-17h00 : Julien Barbances (Violon / Centre)\n\n​Activités autours du festival : \n\nMarché d’artisans locaux\n10h00-17h00 : Scène Découverte (musique traditionnelle)\n11h00-12h30 : Conférence de Jean Jacques Le Creurer « Les collectes sur la tradition de vielle en Creuse : de la chasse au trésor à l’aventure humaine » (gratuit)\n15h45-17h00 : « Pluma que borra – Contes e dires de la sauvatgina » avec Jean-François Vignaud\, départ aux Halles d’Eymoutiers\nUn temps à suivre les chemins et les haies du pays Limousin. Une promenade\, à s’essoufler à gravir nos tuquets\, à s’embourber au fond de nos mouillères (certes\, la chose sera moins commode si nous avons les fesses moulées dans une chaise de salle polyvalente\, mais passons…)\, une promenade donc pour aller à la découverte du petit monde des prés et des bois\, un monde qui porte plume ou gròssa borra (fourrure) sur deux ou quatre pattes.\nUn monde qui parle – dans la langue du pays\, bien sûr ! – et qui d’entre tant de petites histoires vécues dans notre quotidien est porteur d’une mythologie… plan brava\, bien jolie…\n17h15-19h00 : La Sylva (bal gratuit)​\n\nSamedi 01 juin en soirée\n\n20h00 : Ouverture des portes\n20h30 : Bal avec :\n\n20h30-22h30 : Bougnat Sound\n23h00-1h00 : Planchée\n1h30- 3h30 : Plume duo\n22h30 – 1h00 : Inter-plateau\nBœuf musical\n\n\n\nDimanche 02 juin 2024 à 11h​\n\n10h45 : Ouverture des portes de l’église\n11h00-12h30 : Aàgut\n\n→ La programmation en détail \nPer ne’n saubre mai e se marcar – Renseignements & inscription\nAssociation les Bringuebalants – lesbringuebalants@gmail.com – https://pj6735.wixsite.com/bringuebalants/balaviris\nBilleterie concerts : https://www.billetweb.fr/balaviris-2024\nBilleterie ateliers : https://www.billetweb.fr/balaviris-2024-ateliers \n \n
URL:http://ieo-lemosin.org/evenement/balaviris-2024-farem-tot-petar-arquethi-trencadit-bougnat-sound-planchee-plume-duo-aagut-la-sylva-jean-francois-vignaud
LOCATION:Aimostier – Eymoutiers (87)
CATEGORIES:IEO Lemosin,Monde Occitan
END:VEVENT
BEGIN:VEVENT
DTSTART;TZID=Europe/Paris:20240602T093000
DTEND;TZID=Europe/Paris:20240602T093000
DTSTAMP:20260420T235553
CREATED:20240301T100810Z
LAST-MODIFIED:20240301T101005Z
UID:10325-1717320600-1717320600@ieo-lemosin.org
SUMMARY:Paysages et occitan : découverte de nos paysages à pied
DESCRIPTION: \nDécouverte de nos paysages du quotidien à travers la culture occitane : usages des lieux\, toponymie\, évolutions paysagères. La balade se fait à pied\, accompagnée par Jean-François Vignaud de l’IEO Limousin qui nous apportera un éclairage culturel occitan de nos habitus lisibles dans les paysages. \n> Gratuit\n> Rdv à la Mairie\n> Prévoir des chaussures de randonnée.\n> Animation PNR Périgord-Limousin en partenariat avec l’Institut d’Études Occitanes du Limousin\n> Inscription avant le 28 mai \nPer ne’n saubre mai e se marcar – Renseignements & inscriptions\n05 53 55 36 00 – 06 33 09 62 10 \n
URL:http://ieo-lemosin.org/evenement/paysages-et-occitan-decouverte-de-nos-paysages-a-pied
LOCATION:Merariá – Mairie\, Chauzat\, Senta Mari de Vaus – Sainte-Marie de Vaux (87)
CATEGORIES:IEO Lemosin
END:VEVENT
BEGIN:VEVENT
DTSTART;TZID=Europe/Paris:20240602T150000
DTEND;TZID=Europe/Paris:20240602T150000
DTSTAMP:20260420T235553
CREATED:20160303T132122Z
LAST-MODIFIED:20240418T154427Z
UID:10237-1717340400-1717340400@ieo-lemosin.org
SUMMARY:Découverte occitane d'Ambrugeat + « Tour de contes » avec Florant Mercadier
DESCRIPTION:\n15h00 : Découverte occitane du bourg d’Ambrugeat par l’atelier Gardarem l’oc\n\n\n17h00 : « Tour de contes » avec Florant Mercadier\n \nOriginaire de l’Aveyron\, Florant Mercadier contait déjà enfant dans les fêtes et festivals : on y mélangeait le conte\, l’humour\, la musique et les langues sans se poser d’autres questions que le plaisir qu’on prenait à la convivialité. C’est cet état d’esprit qu’il met aujourd’hui dans ses spectacles\, mélanges d’anecdotes collectées et de contes revisités\, avec toujours de l’humour\, de la musique et de la complicité\, « dans un tourbillonnant “One Man Veillée Show” irrésistible » (Radio Albigés). \nPuisant dans ses racines occitanes et dans ses voyages à travers le monde\, Florant Mercadier invente des histoires à l’imaginaire métissé et à l’humour irrésistible… Tirés « du Placard » \, issus « du Pays de Nulle Part » ou dormant « entre deux eaux » \, ses contes donnent vie à de savoureux personnages. Sur scène\, Florant Mercadier se fait aussi musicien\, s’accompagnant à la vielle à roue\, à la cornemuse\, à l’harmonica ou au carémère…\n\nPer ne’n saubre mai e se marcar / Renseignements et réservations\nLa Maison sur la Place (5 Rue Saint-Salvy – 19250 Ambrugeat) – 07 48 11 99 78 – lamaisonsurlaplace.ambrugeat@gmail.com \n
URL:http://ieo-lemosin.org/evenement/decouverte-occitane-dambrugeat-tour-de-contes-avec-florant-mercadier
LOCATION:La Maison sur la Place\, Amburjac – Ambrugeat (19)
CATEGORIES:Monde Occitan
END:VEVENT
END:VCALENDAR