BEGIN:VCALENDAR
VERSION:2.0
PRODID:-//IEO Lemosin - ECPv4.9.9//NONSGML v1.0//EN
CALSCALE:GREGORIAN
METHOD:PUBLISH
X-WR-CALNAME:IEO Lemosin
X-ORIGINAL-URL:http://ieo-lemosin.org
X-WR-CALDESC:Events for IEO Lemosin
BEGIN:VTIMEZONE
TZID:Europe/Paris
BEGIN:DAYLIGHT
TZOFFSETFROM:+0100
TZOFFSETTO:+0200
TZNAME:CEST
DTSTART:20240331T010000
END:DAYLIGHT
BEGIN:STANDARD
TZOFFSETFROM:+0200
TZOFFSETTO:+0100
TZNAME:CET
DTSTART:20241027T010000
END:STANDARD
END:VTIMEZONE
BEGIN:VEVENT
DTSTART;VALUE=DATE:20240910
DTEND;VALUE=DATE:20241103
DTSTAMP:20260420T190947
CREATED:20240328T223027Z
LAST-MODIFIED:20240809T132551Z
UID:10730-1725926400-1730591999@ieo-lemosin.org
SUMMARY:Mòstra/Exposition « Mots e pinceus : Quasernet d'un viatge entre Òlt e Garona » – Coline Eberhard
DESCRIPTION:\n \nLa carnettiste Coline Eberhard présente des dessins et carnets de voyage remplis au fil de déambulations autour de Villeneuve-sur-Lot. Textes et pigments d’aquarelle colorent les pages blanches\, reflètent les tonalités du printemps et de l’été entre le Lot et la Garonne. Cette exploration picturale\, géographique et linguistique lie l’intime du carnet à celui des gens rencontrés en chemin. Leurs mots influencent les dessins\, les expressions occitanes marquent les pages de paysages. Le projet est né d’une résidence artistique à la Maison Forte\, Monbalen. \n> Vernissage mardi 10 septembre à 18h en présence de l’artiste.\n> Visite libre et gratuite aux heures d’ouverture de la librairie : mardi & jeudi 15h-19h\, mercredi & vendredi 10h-13h / 15h-19h\, samedi 10h-13h / 15h-18h. \nPer ne’n saubre mai – Renseignements :\nLibrariá occitana – 05 55 32 06 44 – libraria-occitana@ieo-lemosin.org \n\n
URL:http://ieo-lemosin.org/evenement/mostra-exposition-mots-e-pinceus-quasernet-dun-viatge-entre-olt-e-garona-coline-eberhard
LOCATION:Librariá occitana\, 42\, rua Viena Nauta – rue Haute-Vienne\, Limòtges – Limoges (87)
CATEGORIES:Libraria Occitana
END:VEVENT
BEGIN:VEVENT
DTSTART;TZID=Europe/Paris:20240927T173000
DTEND;TZID=Europe/Paris:20240927T173000
DTSTAMP:20260420T190947
CREATED:20240917T135305Z
LAST-MODIFIED:20240918T085006Z
UID:10780-1727458200-1727458200@ieo-lemosin.org
SUMMARY:Balade contée + Table ronde « Fiers de Limoges : Valoriser la culture locale\, défis et perspectives » – Association Nouveau Printemps à Limoges\, avec Jean-François Vignaud
DESCRIPTION: \n
URL:http://ieo-lemosin.org/evenement/balade-contee-table-ronde-fiers-de-limoges-valoriser-la-culture-locale-defis-et-perspectives-association-nouveau-printemps-a-limoges-avec-jean-francois-vignaud
LOCATION:Espace Simone-Veil\, 2 Rue de la Providence\, Limòtges – Limoges (87)
CATEGORIES:IEO Lemosin
END:VEVENT
END:VCALENDAR