BEGIN:VCALENDAR
VERSION:2.0
PRODID:-//IEO Lemosin - ECPv4.9.9//NONSGML v1.0//EN
CALSCALE:GREGORIAN
METHOD:PUBLISH
X-WR-CALNAME:IEO Lemosin
X-ORIGINAL-URL:http://ieo-lemosin.org
X-WR-CALDESC:Events for IEO Lemosin
BEGIN:VTIMEZONE
TZID:Europe/Paris
BEGIN:DAYLIGHT
TZOFFSETFROM:+0100
TZOFFSETTO:+0200
TZNAME:CEST
DTSTART:20250330T010000
END:DAYLIGHT
BEGIN:STANDARD
TZOFFSETFROM:+0200
TZOFFSETTO:+0100
TZNAME:CET
DTSTART:20251026T010000
END:STANDARD
END:VTIMEZONE
BEGIN:VEVENT
DTSTART;VALUE=DATE:20250301
DTEND;VALUE=DATE:20250330
DTSTAMP:20260420T220421
CREATED:20250227T164219Z
LAST-MODIFIED:20250228T081843Z
UID:11239-1740787200-1743292799@ieo-lemosin.org
SUMMARY:Exposition « Marcelle et Anjela » dans le cadre du Centenaire Marcelle Delpastre
DESCRIPTION: \n24 panneaux pour découvrir un regard croisé sur l’œuvre de Marcelle Delpastre en Limousin et celle d’Anjela Duval en Bretagne qui\, par delà leurs différences\, eurent toutes deux la même préoccupation pour la terre et pour leur langue maternelle. \n> Dans le cadre du Centenaire Marcelle Delpastre / Région Nouvelle-Aquitaine et avec le concours de la Bibliothèque Départementale de la Haute-Vienne pour le prêt de l’exposition\n> Entrée libre aux heures d’ouverture de la médiathèque : tous les matins du mardi au samedi de 9h00 à 12h00 et le mercredi après-midi de 14h00 à 18h00 \nPer ne’n saubre mai – Renseignements\nMédiathèque de Ladignac-le-Long (Château du Chataing – 5 Rue du 8 Mai 1945 – 87500 Ladignac-le-Long) – 05 55 90 59 88 \n  \n
URL:http://ieo-lemosin.org/evenement/exposition-marcelle-et-anjela-dans-le-cadre-du-centenaire-marcelle-delpastre-ladignac-le-long
LOCATION:Mediateca – Médiathèque\, Ladinhac – Ladignac-le-Long (87)
CATEGORIES:Monde Occitan
END:VEVENT
BEGIN:VEVENT
DTSTART;VALUE=DATE:20250304
DTEND;VALUE=DATE:20250427
DTSTAMP:20260420T220421
CREATED:20240328T223027Z
LAST-MODIFIED:20250228T071708Z
UID:11189-1741046400-1745711999@ieo-lemosin.org
SUMMARY:Mòstra /Exposition gravures & émaux « Flors » – Jan-Marc Simeonin
DESCRIPTION:\n \nNé à Limoges en 1950\, Jan-Marc Simeonin est un artiste éclectique et prolifique\, à la fois graveur\, émailleur et illustrateur. Il a notamment illustré des écrits d’auteurs limousins comme Jan dau Melhau\, Joan-Glaudi Rolet et Bernat Combi.\nDans chacune de ses œuvres\, la langue occitane et l’imaginaire limougeaud ont la part belle. Son univers peuplé de figures fantastiques\, à l’humour grinçant et déjanté\, est reconnaissable entre mille. \nCe n’est pas sa première exposition à la librairie. Cette fois-ci\, ses œuvres sont inspirées par le recueil Flors de son regretté ami poète Joan-Glaudi Rolet.\nLes 70 poèmes en prose de Flors sont chacun une fleur de fantaisie\, simplement cocasse ou franchement noire\, de la fleur fofolle à la fleur de sang. Jan-Marc Simeonin en a sélectionné 16. \nUne lecture des poèmes sera proposée à l’occasion du vernissage. \n> Vernissage mercredi 5 mars à 18h30 en présence de l’artiste.\n> Visite libre et gratuite aux heures d’ouverture de la librairie : mardi & jeudi 15h-19h\, mercredi & vendredi 10h-13h / 15h-19h\, samedi 10h-13h / 15h-18h. \nPer ne’n saubre mai – Renseignements :\nLibrariá occitana – 05 55 32 06 44 – libraria-occitana@ieo-lemosin.org \n\n
URL:http://ieo-lemosin.org/evenement/mostra-exposition-gravures-emaux-flors-jan-marc-simeonin
LOCATION:Librariá occitana\, 42\, rua Viena Nauta – rue Haute-Vienne\, Limòtges – Limoges (87)
CATEGORIES:Libraria Occitana
END:VEVENT
BEGIN:VEVENT
DTSTART;TZID=Europe/Paris:20250329T090000
DTEND;TZID=Europe/Paris:20250329T180000
DTSTAMP:20260420T220421
CREATED:20220804T170815Z
LAST-MODIFIED:20250312T230203Z
UID:11262-1743238800-1743271200@ieo-lemosin.org
SUMMARY:La Librariá occitana au Comice agricole
DESCRIPTION:La Librariá occitana y aura un stand. \n \nPer ne’n saubre mai e se marcar – Renseignements & réservations :\n07 81 76 17 63 \n
URL:http://ieo-lemosin.org/evenement/la-libraria-occitana-au-comice-agricole-eyjeaux-2025
LOCATION:Esjau – Eyjeaux (87)
CATEGORIES:Libraria Occitana
END:VEVENT
BEGIN:VEVENT
DTSTART;TZID=Europe/Paris:20250329T160000
DTEND;TZID=Europe/Paris:20250329T173000
DTSTAMP:20260420T220421
CREATED:20250312T223635Z
LAST-MODIFIED:20250326T180710Z
UID:11258-1743264000-1743269400@ieo-lemosin.org
SUMMARY:Hommage à Marcelle Delpastre
DESCRIPTION: \nDe 16h à 17h30 sera rendu un hommage à Marcelle Delpastre par l’association des Sans Soucis de Varetz et des bénévoles de la médiathèque\, à travers des lectures\, des diaporamas poétiques et des airs d’accordéon.\nCette corrézienne née à Chamberet dont nous célébrons le centième anniversaire de la naissance et très attachée à sa terre natale\, s’est particulièrement illustrée par ses poèmes\, ses contes traditionnels limousins en occitan et ses romans très ancrés dans la réalité paysanne de son époque. \n> Gratuit sur réservation \nPer ne’n saubre mai e se marcar – Renseignements & réservations\nMédiathèque de Varetz (Place Henri de Jouvenel – 19240 Varetz) – 05 55 22 47 53 – mediatheque@varetz.com \n \n
URL:http://ieo-lemosin.org/evenement/hommage-a-marcelle-delpastre
LOCATION:Sala d’animacion de la Mediateca Henry Jouvenel\, Varetz (19)
CATEGORIES:Monde Occitan
END:VEVENT
BEGIN:VEVENT
DTSTART;TZID=Europe/Paris:20250329T203000
DTEND;TZID=Europe/Paris:20250329T203000
DTSTAMP:20260420T220421
CREATED:20250227T175811Z
LAST-MODIFIED:20250227T175811Z
UID:11235-1743280200-1743280200@ieo-lemosin.org
SUMMARY:Spectacle « Marcela\, conta-me lo Lemosin ! » – Escòla dau Mont Gargan
DESCRIPTION: \nL’Escòla dau Mont-Gargan vous invite à plonger au cœur des traditions du Limousin avec son nouveau spectacle « Marcela\, conta-me lo Lemosin ! » mêlant danse\, chant\, musique et récits légendaires de notre région. \nUn voyage en trois tableaux : \n\nLes Scieurs de long – Hommage aux artisans du bois\nMarcelle Delpastre – Poète et gardienne de la mémoire limousine\nGargantua – La légende du géant créateur du Mont-Gargan\n\n> Tarif unique : 10 € \nPer ne’n saubre mai – Renseignements\nEscòla dau Mont-Gargan – asso.ecoledumontgargan@gmail.com – Facebook @escoladaumontgargan87 \n \n  \n
URL:http://ieo-lemosin.org/evenement/spectacle-marcela-conta-me-lo-lemosin-escola-dau-mont-gargan
LOCATION:Cinemà Le Colisée\, Chasteu Nuòu – Châteauneuf-la-Forêt (87)
CATEGORIES:Monde Occitan
END:VEVENT
END:VCALENDAR