BEGIN:VCALENDAR
VERSION:2.0
PRODID:-//IEO Lemosin - ECPv4.9.9//NONSGML v1.0//EN
CALSCALE:GREGORIAN
METHOD:PUBLISH
X-WR-CALNAME:IEO Lemosin
X-ORIGINAL-URL:http://ieo-lemosin.org
X-WR-CALDESC:Events for IEO Lemosin
BEGIN:VTIMEZONE
TZID:Europe/Paris
BEGIN:DAYLIGHT
TZOFFSETFROM:+0100
TZOFFSETTO:+0200
TZNAME:CEST
DTSTART:20250330T010000
END:DAYLIGHT
BEGIN:STANDARD
TZOFFSETFROM:+0200
TZOFFSETTO:+0100
TZNAME:CET
DTSTART:20251026T010000
END:STANDARD
END:VTIMEZONE
BEGIN:VEVENT
DTSTART;VALUE=DATE:20250507
DTEND;VALUE=DATE:20250619
DTSTAMP:20260421T011527
CREATED:20150105T111236Z
LAST-MODIFIED:20250513T191129Z
UID:11464-1746576000-1750291199@ieo-lemosin.org
SUMMARY:Mòstra/Exposition « Marcelle & Anjela » (Marcela Delpastre & Anjela Duval)
DESCRIPTION: \nDeux parcours de femmes\, l’une en Limousin\, l’autre en Trégor\, Marcelle Delpastre et Anjela Duval\, toutes deux sont paysannes et poètes\, toutes deux écrivent dans leur langue natale\, l’occitan pour l’une\, le breton pour l’autre.\nUne exposition pour parler de poésie\, d’engagement et de matrimoine. \nL’une à Germont en Limousin\, fait chanter l’occitan\, l’autre à Traoñ-an-Dour en Trégor\, magnifie le breton\, deux femmes\, carnets noircis de poèmes dans leurs poches de sarraus\, entre traites et chemins creux\, bottes caoutchouc et veillées au coin du feu\, après-guerre\, elles voient s’effriter un certain monde paysan\, elles\, vont continuer à nous le dire ce monde\, à se battre pour leurs langues\, entourées de jeunes chevelus venus de la ville les écouter !\nMarcelle Delpastre et Marie-Angèle Duval pour l’état-civil\, deux femmes singulières\, qui nous disent à l’oreille… \n> Aux heures d’ouverture de la médiathèque \nPer ne’n saubre mai / Renseignements\nMédiathèque Saint-Yrieix-la-Perche (16 Avenue du Maréchal de Lattre de Tassigny – 87500 Saint-Yrieix-la-Perche) – 05 55 08 88 79 – bibliotheque@saint-yrieix.fr – https://bibliotheque-mediatheque.saint-yrieix.fr/ \n \n \n
URL:http://ieo-lemosin.org/evenement/mostra-exposition-marcelle-anjela-marcela-delpastre-anjela-duval-sent-iries
LOCATION:Mediateca – Médiathèque\, 16 Avenue du Maréchal de Lattre de Tassigny\, Sent Iriès – Saint-Yrieix-la-Perche (87)
CATEGORIES:Monde Occitan
END:VEVENT
BEGIN:VEVENT
DTSTART;VALUE=DATE:20250513
DTEND;VALUE=DATE:20250629
DTSTAMP:20260421T011527
CREATED:20240328T223027Z
LAST-MODIFIED:20250610T144316Z
UID:11396-1747094400-1751155199@ieo-lemosin.org
SUMMARY:Mòstra /Exposition « Quand l'art s'invite sur les chemins de Compostelle » – Jean-Paul Garcia\, peintre pélerin
DESCRIPTION: \nJe vis et travaille à Limoges. Pèlerin arpentant les chemins de Compostelle depuis 2009\, je suis aquarelliste et fixe sur place en peinture chacun des lieux que je traverse.\n \nDurant ces voyages qui furent pour moi purs plaisirs\, rencontres et découvertes\, j’ai peint pas moins de 600 aquarelles\, pris plusieurs centaines de photographies pour\, au final\, publier 5 ouvrages auto-édités que j’ai le plaisir\, avec quelques aquarelles originales et grands dessins\, de présenter ici. \n> Vernissage mercredi 21 mai à 18h00 en présence de l’artiste.\n> Visite libre et gratuite aux heures d’ouverture de la librairie : mardi & jeudi 15h-19h\, mercredi & vendredi 10h-13h / 15h-19h\, samedi 10h-13h / 15h-18h.\n> Pour ceux qui voudraient rencontrer l’artiste\, il sera présent à la librairie : samedi 14 juin\, samedi 21 juin et samedi 28 juin de 10h à 13h. \nPer ne’n saubre mai – Renseignements :\nLibrariá occitana – 05 55 32 06 44 – libraria-occitana@ieo-lemosin.org \n\n
URL:http://ieo-lemosin.org/evenement/mostra-exposition-quand-lart-sinvite-sur-les-chemins-de-compostelle-jean-paul-garcia-peintre-pelerin
LOCATION:Librariá occitana\, 42\, rua Viena Nauta – rue Haute-Vienne\, Limòtges – Limoges (87)
CATEGORIES:Libraria Occitana
END:VEVENT
END:VCALENDAR