BEGIN:VCALENDAR
VERSION:2.0
PRODID:-//IEO Lemosin - ECPv4.9.9//NONSGML v1.0//EN
CALSCALE:GREGORIAN
METHOD:PUBLISH
X-WR-CALNAME:IEO Lemosin
X-ORIGINAL-URL:http://ieo-lemosin.org
X-WR-CALDESC:Events for IEO Lemosin
BEGIN:VTIMEZONE
TZID:Europe/Paris
BEGIN:DAYLIGHT
TZOFFSETFROM:+0100
TZOFFSETTO:+0200
TZNAME:CEST
DTSTART:20250330T010000
END:DAYLIGHT
BEGIN:STANDARD
TZOFFSETFROM:+0200
TZOFFSETTO:+0100
TZNAME:CET
DTSTART:20251026T010000
END:STANDARD
END:VTIMEZONE
BEGIN:VEVENT
DTSTART;VALUE=DATE:20251104
DTEND;VALUE=DATE:20251225
DTSTAMP:20260421T125042
CREATED:20231129T172331Z
LAST-MODIFIED:20251021T092353Z
UID:11995-1762214400-1766620799@ieo-lemosin.org
SUMMARY:Mòstra / Exposition « Poisson libre »\, dessins – Benoît Rocher
DESCRIPTION: \nBenoît Rocher est membre de la Galerie 5 et du collectif Factory 87.\nDepuis l’enfance\, il dessine\, photographie\, puis explore la peinture — aquarelle\, huile — et même la sculpture\, grâce à Mariette Forges. \nDans cette exposition\, vous découvrirez uniquement ses dessins : des récréations où il rêvasse et s’amuse\, comme lorsqu’il était enfant. Tout y passe : aquarelle\, posca\, encre\, café\, stylo… \nLe poisson y revient souvent\, en clin d’œil à son ami André et à Matisse.\nUn hommage discret\, un jeu\, peut-être. Comme un « Cherchez Charlie ». \nIci\, l’idée est simple : vous faire sourire\, et vous inviter à rêver un peu. \n> Vernissage de l’exposition vendredi 7 novembre à 18h30 en présence de l’artiste.\n> Exposition visible aux heures d’ouverture de la librairie : mardi & jeudi 15h00-19h00\, mercredi & vendredi 10h00-13h00 & 15h00-19h00\, samedi 10h00-13h00 / 15h00-18h00.\n> Horaires de Noël du 9 au 24 décembre inclus : du mardi au vendredi : 10h00-19h00 ; lundi & samedi : 10h00-18h00. \nPer ne’n saubre mai – Renseignements :\nLibrariá occitana – 05 55 32 06 44 / libraria.occitana@ieo-lemosin.org \n
URL:http://ieo-lemosin.org/evenement/mostra-exposition-poisson-libre-dessins-benoit-rocher
LOCATION:Librariá occitana\, 42\, rua Viena Nauta – rue Haute-Vienne\, Limòtges – Limoges (87)
CATEGORIES:Libraria Occitana
END:VEVENT
BEGIN:VEVENT
DTSTART;VALUE=DATE:20251206
DTEND;VALUE=DATE:20251207
DTSTAMP:20260421T125042
CREATED:20230720T082205Z
LAST-MODIFIED:20251205T110056Z
UID:12106-1764979200-1765065599@ieo-lemosin.org
SUMMARY:Befaure 2025 : Ateliers danse avec Matières vivantes + Bal-trad de Ronzes\, Man Encantada & Le Mange-bal
DESCRIPTION:Transmettre de manière non-genrée et s’initier aux danses trad’ avec le collectif Matières vivantes\nÀ partir de 15h\, au CCS de Tulle\, en amont du Befaure\, venez participer aux séances de formation et d’initiations de manière non-genrée aux danses trad’ avec le collectif Matières vivantes. \nAtelier sur la transmission non genrée des danses de bal – 15h-17h \nApprofondissez votre pratique en développant une approche pédagogique non genrée dans la transmission des danses de bal. Cet atelier s’adresse aux formateur·ices\, aux animateur·ices de bals traditionnels et aux musicien·nes qui expliquent les danses\, en ateliers ou en bals. \nInitiation ouverte à toutes et tous aux danses de bal trad’ – 17h30-19h \nEn amont du Befaure de la Nuit de la Bourrée\, venez vous initier aux danses traditionnelles. Cet atelier\, ouvert à tous·tes\, est animé par le collectif Matières vivantes qui propose une approche non-genrée des danses et sensibilise au respect du consentement entre partenaires dans le bal. \n> Ateliers gratuits sur inscription \nInscription/Renseignements : \nCRMTL – crmtl@crmtl.fr – 05 55 27 93 48 – https://crmtl.assoconnect.com/collect/description/640620-s-formation-et-initiation-non-genrees-aux-danses-trad \nBefaure 2025 : Bal trad’\nÀ partir de 20h30 à la Salle Des Lendemains Qui Chantent. \nInterplateaux \nLes interplateaux seront animés par les étudiant·es du Département de Musiques Traditionnelles du Pôle Aliénor (Poitiers – Nouvelle-Aquitaine) : Henjo Plate (vielle à roue)\, Paul Thierry (chant\, accordéon diatonique\, violoncelle)\, Maréla Sammarone (violon\, chant) et Baptiste Bertoux (accordéon diatonique). \nRonzes : Polyphonies occitanes \nTrio vocal féminin venu du Limousin\, Ronzes fait danser les mots et les corps avec ses polyphonies a cappella. Les textes\, en occitan ou en français\, résonnent fort\, portés par Cristal Sénès\, Lucie Martinie et Margaux Duseigneur. Bourrées\, valses et scottishs retrouvent ici toute leur puissance brute et leur beauté nue. \n \n \nMan Encantada : Transe cuivrée \nTrio gascon puissant et raffiné\, Man Encantada tisse des compositions originales et des chants occitans dans une matière sonore unique : voix\, mandole\, violoncelle et bugle s’entrelacent dans une transe acoustique à la fois ancienne et furieusement contemporaine. Un voyage intense\, poétique\, collectif. \n \n \nLe Mange-Bal : Néo-folk électro \nFer de lance d’une nouvelle génération de bal folk électro\, Le Mange-Bal transforme la tradition en terrain de jeu electronique. Accordéon\, clarinette\, boîtes à rythmes\, synthétiseurs et samples fusionnent dans un groove irrésistible\, aux frontières du trad\, de la techno et de la fête libre. Une fin de soirée explosive. \n \n \n> Ouverture public 20h30\n> Début du bal 21h\n> Tarif : 10 €\n> Buvette & petite restauration\n> Organisé par Des Lendemains Qui Chantent en coproduction avec le Centre Régional des Musiques Traditionnelles en Limousin. En partenariat avec Délires et des notes\, le Bal d’à Côté\, Danse avec les louves \nPer ne’n saubre mai – Renseignements\nDes Lendemains Qui Chantent (Avenue du Lieutenant Colonel Faro – 19000 Tulle) – 05 55 26 09 50 – https://deslendemainsquichantent.org/agenda/le-befaure-magic-hour-afterwork-talbru/ \n
URL:http://ieo-lemosin.org/evenement/befaure-2025-ateliers-danse-avec-matieres-vivantes-bal-trad-de-ronzes-man-encantada-le-mange-bal
LOCATION:Sala – Salle “Des lendemains qui chantent”\, Avenue du Lieutenant Colonel Faro\, Tula – Tulle (19)
CATEGORIES:Monde Occitan
END:VEVENT
BEGIN:VEVENT
DTSTART;TZID=Europe/Paris:20251206T110000
DTEND;TZID=Europe/Paris:20251206T120000
DTSTAMP:20260421T125042
CREATED:20230103T155656Z
LAST-MODIFIED:20251202T102136Z
UID:12101-1765018800-1765022400@ieo-lemosin.org
SUMMARY:Atelier de conversation en occitan
DESCRIPTION:« Achabatz d’entrar ! Platusser\, clamper\, barjaquer\, chapler… ne sont que quelques-uns des termes employés en langue limousine pour exprimer l’action de discuter et d’échanger entre amateurs ou passionnés\, sur tous les sujets. L’association Balad’oc Tula propose un atelier de conversation gratuit\, ouvert à tous sans connaissances particulières requises. Batalharem de tot çò que voldretz !\nAl plaser de vos vèire ! » \nPer ne’n saubre mai – Renseignements\nMichèle Chaumeil – 06 32 31 69 53 \n
URL:http://ieo-lemosin.org/evenement/atelier-de-conversation-en-occitan-decembre-2025
LOCATION:Mediateca Intercomunala Eric Rohmer\, av. Winston Churchill\, Tula – Tulle (19)
CATEGORIES:Monde Occitan
END:VEVENT
BEGIN:VEVENT
DTSTART;TZID=Europe/Paris:20251206T150000
DTEND;TZID=Europe/Paris:20251206T173000
DTSTAMP:20260421T125042
CREATED:20180912T114236Z
LAST-MODIFIED:20250808T155135Z
UID:11771-1765033200-1765042200@ieo-lemosin.org
SUMMARY:« Cafè platussant »
DESCRIPTION:« Je le comprends mais je le parle pas »\n« Je trouve (plus) personne pour parler »\n« Je le parle mais le lire… c’est compliqué ! »\n« Quand on le voit écrit\, c’est pas pareil ! » \nVenez donc passer un moment à la librairie coma la Monica Sarrasin e son esquipa pour platussar (bavarder) en occitan – « limousin » ou « patois » à votre guise !\nOn y parlera de tout et de rien\, on pourra raconter des histoires ou un bon souvenir\, chanter une chanson… et pourquoi pas\, de temps à autre\, une petite initiation en douceur à la lecture pour découvrir la richesse de l’occitan d’ici ou d’ailleurs\, sa littérature… \nE per se lançar\, un thème\, une idée\, un « son de tête » qu’on aura plaisir à suivre… ou pas : \n\n4/10/25 : Las pomas\n8/11/25 : Las paurs : tòrnas\, leberon…\n6/12/25 : Nadau en chançons\n3/01/26 : Lo lop\n7/02/26 : L’evolucion daus comercis\n7/03/26 : Lo chamin de fer\n4/04/26 : Los auseus\n2/05/26 : Juguets boissoniers\n6/06/26 : L’auratge\n\nMas tot ’quò-’quí balha set\, il sera aussi grand temps de terminer l’après-midi\, en « bargassant » autour d’une tasse de thé ou de café ! \n> Entrée libre et gratuite sans inscription préalable.\n> Chaque premier samedi du mois de 15h à 17h30. \nPer ne’n saubre mai – Renseignements\nLibrariá occitana – 05 55 32 06 44 – libraria.occitana@ieo-lemosin.org \n
URL:http://ieo-lemosin.org/evenement/cafe-platussant-25-12
LOCATION:Librariá occitana\, 42\, rua Viena Nauta – rue Haute-Vienne\, Limòtges – Limoges (87)
CATEGORIES:Libraria Occitana
END:VEVENT
BEGIN:VEVENT
DTSTART;TZID=Europe/Paris:20251206T180000
DTEND;TZID=Europe/Paris:20251206T180000
DTSTAMP:20260421T125042
CREATED:20251121T173648Z
LAST-MODIFIED:20251121T173648Z
UID:12090-1765044000-1765044000@ieo-lemosin.org
SUMMARY:Conferéncia « Aux sources du "folklore limousin" » – Françoise Étay
DESCRIPTION: \n
URL:http://ieo-lemosin.org/evenement/conferencia-aux-sources-du-folklore-limousin-francoise-etay
LOCATION:Salle Cinéma des Monts\, Rue des Dr Ballet\, Embasac – Ambazac (87)
CATEGORIES:Monde Occitan
END:VEVENT
END:VCALENDAR