BEGIN:VCALENDAR
VERSION:2.0
PRODID:-//IEO Lemosin - ECPv4.9.9//NONSGML v1.0//EN
CALSCALE:GREGORIAN
METHOD:PUBLISH
X-WR-CALNAME:IEO Lemosin
X-ORIGINAL-URL:http://ieo-lemosin.org
X-WR-CALDESC:Events for IEO Lemosin
BEGIN:VTIMEZONE
TZID:Europe/Paris
BEGIN:DAYLIGHT
TZOFFSETFROM:+0100
TZOFFSETTO:+0200
TZNAME:CEST
DTSTART:20250330T010000
END:DAYLIGHT
BEGIN:STANDARD
TZOFFSETFROM:+0200
TZOFFSETTO:+0100
TZNAME:CET
DTSTART:20251026T010000
END:STANDARD
END:VTIMEZONE
BEGIN:VEVENT
DTSTART;VALUE=DATE:20251104
DTEND;VALUE=DATE:20251225
DTSTAMP:20260421T141557
CREATED:20231129T172331Z
LAST-MODIFIED:20251021T092353Z
UID:11995-1762214400-1766620799@ieo-lemosin.org
SUMMARY:Mòstra / Exposition « Poisson libre »\, dessins – Benoît Rocher
DESCRIPTION: \nBenoît Rocher est membre de la Galerie 5 et du collectif Factory 87.\nDepuis l’enfance\, il dessine\, photographie\, puis explore la peinture — aquarelle\, huile — et même la sculpture\, grâce à Mariette Forges. \nDans cette exposition\, vous découvrirez uniquement ses dessins : des récréations où il rêvasse et s’amuse\, comme lorsqu’il était enfant. Tout y passe : aquarelle\, posca\, encre\, café\, stylo… \nLe poisson y revient souvent\, en clin d’œil à son ami André et à Matisse.\nUn hommage discret\, un jeu\, peut-être. Comme un « Cherchez Charlie ». \nIci\, l’idée est simple : vous faire sourire\, et vous inviter à rêver un peu. \n> Vernissage de l’exposition vendredi 7 novembre à 18h30 en présence de l’artiste.\n> Exposition visible aux heures d’ouverture de la librairie : mardi & jeudi 15h00-19h00\, mercredi & vendredi 10h00-13h00 & 15h00-19h00\, samedi 10h00-13h00 / 15h00-18h00.\n> Horaires de Noël du 9 au 24 décembre inclus : du mardi au vendredi : 10h00-19h00 ; lundi & samedi : 10h00-18h00. \nPer ne’n saubre mai – Renseignements :\nLibrariá occitana – 05 55 32 06 44 / libraria.occitana@ieo-lemosin.org \n
URL:http://ieo-lemosin.org/evenement/mostra-exposition-poisson-libre-dessins-benoit-rocher
LOCATION:Librariá occitana\, 42\, rua Viena Nauta – rue Haute-Vienne\, Limòtges – Limoges (87)
CATEGORIES:Libraria Occitana
END:VEVENT
BEGIN:VEVENT
DTSTART;VALUE=DATE:20251208
DTEND;VALUE=DATE:20251221
DTSTAMP:20260421T141557
CREATED:20250605T151610Z
LAST-MODIFIED:20251027T121514Z
UID:12002-1765152000-1766275199@ieo-lemosin.org
SUMMARY:Mòstra / Exposition « Marcela Delpastre\, poète et paysanne »
DESCRIPTION: \nCette exposition retrace la vie et l’œuvre de la poète et ethnographe limousine Marcelle Delpastre. Née en 1925 à Germont\, en Corrèze\, elle reprend la ferme de ses parents et écrit\, en français\, comme en occitan limousin\, sur son Limousin natal. Études ethnographiques\, poèmes\, pièces de théâtre\, nouvelles\, psaumes\, elle occupe une place singulière dans l’archipel de la poésie occitane contemporaine et laisse une œuvre colossale que cette exposition s’attache à explorer\, à travers de très nombreux extraits de ses textes. \n> Visite libre aux heures d’ouverture de la médiathèque : du lundi au vendredi de 9h à 12h et de 14h à 18h ; le samedi de 9h à 12h. \nPer ne’n saubre mai – Renseignements\nMédiathèque Marcelle Delpastre – 05 55 86 92 96 – Biblio.stpanlarche@gmail.com \n \n
URL:http://ieo-lemosin.org/evenement/mostra-exposition-marcela-delpastre-poete-et-paysanne-st-pantaleon-de-larche
LOCATION:Espaci culturau – Espace culturel Charles Ceyrac\, Sent Pantaleon de L’Archa – Saint-Pantaléon-de-Larche (19)
CATEGORIES:Monde Occitan
END:VEVENT
BEGIN:VEVENT
DTSTART;TZID=Europe/Paris:20251212T183000
DTEND;TZID=Europe/Paris:20251212T183000
DTSTAMP:20260421T141557
CREATED:20250912T045502Z
LAST-MODIFIED:20250912T050037Z
UID:11829-1765564200-1765564200@ieo-lemosin.org
SUMMARY:Lecture spectacle « La Chambre accouchée » – Le Temps de réfléchir
DESCRIPTION: \nQuel récit vous a-t-on donné de votre naissance ? Avec cette question\, Nadège Moyart\, auteure et graphiste installée en Haute-Corrèze\, part à la rencontre de nos aîné·e·s pour les faire parler de leurs premiers instants au monde depuis l’autre bout de leur vie. Qu’est-ce que naître à la campagne\, il y a plus de 70 ans ? Histoires individuelles qui révèlent une société et disent ses silences. \nDe ces histoires données\, Nadège Moyart produit un récit au fil duquel résonnent des textes de la poète limousine Marcelle Delpastre. Avec des musicien·ne·s\, une chanteuse\, un comédien et un metteur en scène\, elle donne vie à cette création littéraire\, pour la faire entendre\, la partager au public dans l’éphémère d’une représentation\, fragile et délicate. \nCette résidence en territoire qui mêle collecte mémorielle\, écriture et création d’un spectacle vivant est un projet accompagné par Haute-Corrèze Communautés et le Pays d’Art et d’Histoire dans le cadre du dispositif Soutien aux projets collectifs et interprofessionnels dans le domaine du livre\, coordonné par l’ALCA et soutenu par le CNL\, la DRAC et la Région Nouvelle-Aquitaine. \n> En français\n> Tarif : prix libre \n \n
URL:http://ieo-lemosin.org/evenement/lecture-spectacle-la-chambre-accouchee-le-temps-de-reflechir-mostier-de-ventadorn
LOCATION:Les Renardières\, Mostier de Ventadorn – Moustier-Ventadour (19)
CATEGORIES:Monde Occitan
END:VEVENT
BEGIN:VEVENT
DTSTART;TZID=Europe/Paris:20251212T200000
DTEND;TZID=Europe/Paris:20251212T200000
DTSTAMP:20260421T141557
CREATED:20251208T105856Z
LAST-MODIFIED:20251208T105856Z
UID:12126-1765569600-1765569600@ieo-lemosin.org
SUMMARY:Velhada de Nadau : Chants et contes de Noël occitan-français
DESCRIPTION: \nL’Escòla dau Mont-Gargan est ravie de vous inviter à sa soirée chants et contes de Noël\, mêlant la langue limousine et français. \n> Entrée libre (participation au chapeau). \n
URL:http://ieo-lemosin.org/evenement/velhada-de-nadau-chants-et-contes-de-noel-occitan-francais
LOCATION:Egleisa – Église\, Esjau – Eyjeaux (87)
CATEGORIES:Monde Occitan
END:VEVENT
END:VCALENDAR