BEGIN:VCALENDAR
VERSION:2.0
PRODID:-//IEO Lemosin - ECPv4.9.9//NONSGML v1.0//EN
CALSCALE:GREGORIAN
METHOD:PUBLISH
X-WR-CALNAME:IEO Lemosin
X-ORIGINAL-URL:http://ieo-lemosin.org
X-WR-CALDESC:Events for IEO Lemosin
BEGIN:VTIMEZONE
TZID:Europe/Paris
BEGIN:DAYLIGHT
TZOFFSETFROM:+0100
TZOFFSETTO:+0200
TZNAME:CEST
DTSTART:20260329T010000
END:DAYLIGHT
BEGIN:STANDARD
TZOFFSETFROM:+0200
TZOFFSETTO:+0100
TZNAME:CET
DTSTART:20261025T010000
END:STANDARD
END:VTIMEZONE
BEGIN:VEVENT
DTSTART;VALUE=DATE:20260107
DTEND;VALUE=DATE:20260301
DTSTAMP:20260421T141426
CREATED:20251223T184438Z
LAST-MODIFIED:20260108T180714Z
UID:12162-1767744000-1772323199@ieo-lemosin.org
SUMMARY:Mòstra/Exposition « Émaux & gravures : Les fleurs de Joan-Glaudi Rolet » de Jean-Marc Siméonin
DESCRIPTION: \nNé à Limoges en 1950\, Jean-Marc Siméonin est un artiste éclectique et prolifique\, à la fois graveur\, émailleur et illustrateur.\nIl a notamment illustré des écrits d’auteurs limousins comme Jan dau Melhau\, Joan-Glaudi Rolet\, Bernat Combi et Marcelle Delpastre.\nSon univers est peuplé de figures fantastiques\, à l’humour grinçant et déjanté. \nJean-Marc Siméonin vous présente des œuvres inspirées par le recueil Flors de son regretté ami poète Joan-Glaudi Rolet. Les 70 poèmes en prose de Flors sont chacun une fleur de fantaisie\, simplement cocasse ou franchement noire\, de la fleur fofolle à la fleur de sang. Jean-Marc Siméonin en a sélectionné 16. \n
URL:http://ieo-lemosin.org/evenement/mostra-exposition-emaux-gravures-les-fleurs-de-joan-glaudi-rolet-de-jean-marc-simeonin
LOCATION:Mediateca intercomunala – Médiathèque intercommunale\, plaça – place Courtaud\, Falatin – Felletin (23)
CATEGORIES:IEO Lemosin
END:VEVENT
BEGIN:VEVENT
DTSTART;VALUE=DATE:20260109
DTEND;VALUE=DATE:20260201
DTSTAMP:20260421T141426
CREATED:20250605T151610Z
LAST-MODIFIED:20260107T081512Z
UID:12179-1767916800-1769903999@ieo-lemosin.org
SUMMARY:Mòstra / Exposition « Marcela Delpastre\, poète et paysanne »
DESCRIPTION: \nCette exposition retrace la vie et l’œuvre de la poète et ethnographe limousine Marcelle Delpastre. Née en 1925 à Germont\, en Corrèze\, elle reprend la ferme de ses parents et écrit\, en français\, comme en occitan limousin\, sur son Limousin natal. Études ethnographiques\, poèmes\, pièces de théâtre\, nouvelles\, psaumes\, elle occupe une place singulière dans l’archipel de la poésie occitane contemporaine et laisse une œuvre colossale que cette exposition s’attache à explorer\, à travers de très nombreux extraits de ses textes. \n> Une exposition conçue en 1999 et réactualisée en 2024 par Jan dau Melhau\, à l’occasion du centenaire de la naissance de Marcelle Delpastre ; réalisée par le CIRDOC – Institut occitan de cultura en partenariat avec l’Institut d’Estudis Occitans dau Lemosin\, la Bibliothèque francophone multimédia de Limoges et la Région Nouvelle-Aquitaine.\n> Visite libre aux heures d’ouverture de la médiathèque : mercredi : 14h-18h\, vendredi : 16h-18h\, samedi : 9h30-12h30 \nPer ne’n saubre mai – Renseignements\nMédiathèque de Châlus – 05 55 78 15 76 – mediatheque.chalus@paysdenexon-montsdechalus.fr \n \n
URL:http://ieo-lemosin.org/evenement/mostra-exposition-marcela-delpastre-poete-et-paysanne-chasluc
LOCATION:Mediateca – Médiathèque\, Chasluç – Châlus (87)
CATEGORIES:Monde Occitan
END:VEVENT
BEGIN:VEVENT
DTSTART;VALUE=DATE:20260110
DTEND;VALUE=DATE:20260112
DTSTAMP:20260421T141426
CREATED:20221107T124852Z
LAST-MODIFIED:20251113T083446Z
UID:11717-1768003200-1768175999@ieo-lemosin.org
SUMMARY:Dins la forest... Estagi de chant occitan coma Jan-Marc Delaunay + Concert "Bestias" de l'ensemble vocau Terras
DESCRIPTION:L’Institut d’Estudis Occitans dau Lemosin et l’Amicale laïque de Saint-Méard (87) ont le plaisir d’accueillir Jean-Marc Delaunay à la Salle du Rouvereau pour une nouvelle plongée dans le riche répertoire traditionnel limousin. Cette fois\, bois et forêts sont à l’honneur. \nLe stage : Dins la forest…\n/ Samedi et dimanche\, sur inscription / \nDans les chansons traditionnelles\, les bois et forêts ne sont jamais l’objet de descriptions poétiques\, mais sont avant tout le théâtre d’évènements\, badins ou dramatiques : lieux propices aux rencontres ou aux tentatives amoureuses\, mais aussi aux crimes et brigandages. On y croise des travailleurs\, charbonniers\, scieurs de long ou fagoteurs\, on s’y arrête près des claires fontaines\, on y dialogue avec les oiseaux\, au risque de croiser le loup en chemin. Enfin\, on lève la tête vers les arbres\, pour leur rendre hommage… ou les couper ! \nJean-Marc Delaunay vous propose donc de traverser en chansons les forêts du Limousin et du Périgord\, en puisant dans différentes sources régionales\, écrites ou enregistrées. Nous apprendrons les mélodies oralement\, les paroles seront distribuées aux stagiaires. \nJean-Marc Delaunay travaille depuis la fin des années 1980 sur les musiques traditionnelles\, et en particulier sur les différents répertoires des régions du Massif Central. Titulaire du Diplôme d’État dans ce domaine\, il pratique et enseigne plusieurs instruments (violon\, flûtes\, cornemuses) à l’école de musique de Saint-Yrieix-la-Perche\, et publie des articles et répertoires sur le site du CRMTL (Centre régional des musiques traditionnelles en Limousin). \nLimité à 30 stagiaires. Tout public\, occitanophone ou non. \nComa se passa ‘quò ? \n– Oraris : \n\nSamedi 10 janvier : 14h30-18h30 (Accueil à partir de 14h)\nDimanche 11 janvier : 9h30-12h / 14h-16h30\n\n– Repas : \n\nSamedi soir : Repas sur place\, buffet commun partagé. Apportez de quoi manger (et vos couverts) !\nDimanche midi : Repas chaud sur place\, sur réservation – 15 €.\n\n– Per durmir : \nPour toute formule d’hébergement\, vous pouvez contacter l’Office de Tourisme de Briance-Combade au 05 55 69 63 69. \nVous trouverez des hébergements à tous les prix sur des sites tels que booking.com\, chambres-hotes.fr\, airbnb.fr… \n– Quantben ‘quò còsta ? \n\nTarif plein : 45 €\nTarif réduit (étudiants\, chômeurs\, -14 ans\, adhérents I.E.O.) : 40 €\nRepas dimanche midi : 15 €\n\nLa Velhada : Concert “Bestias” par l’ensemble vocal Terras\n/ Samedi soir 21h\, ouvert à tous / \nTerras est un ensemble vocal de dix musiciens et chanteurs avec comme répertoire principal\, le fonds traditionnel limousin\, surtout en occitan\, sur des arrangements originaux. \nLeur nouveau concert “Bestias” a pour thème central les animaux\, si présents dans l’imaginaire collectif. \n\nEntrée libre\nParticipation libre au chapeau\n19h : Pour ceux qui veulent : Auberge espagnole – Repas + couverts sortis du panier\n\n→ Télécharger le dépliant complet \nPer ne’n saubre mai e se marcar – Renseignements & inscriptions \nLibrariá occitana – 05 55 32 06 44 – contact@ieo-lemosin.org\nSe marcar / S’inscrire :\n– par courrier : → Télécharger le bulletin d’inscription\n– en ligne ICI \n \n
URL:http://ieo-lemosin.org/evenement/estagi-de-chant-occitan-coma-jan-marc-delaunay-2026
LOCATION:Salle du Rouvereau\, Sent Mèrd – Saint-Méard (87)
CATEGORIES:IEO Lemosin,Monde Occitan
END:VEVENT
END:VCALENDAR