BEGIN:VCALENDAR
VERSION:2.0
PRODID:-//IEO Lemosin - ECPv4.9.9//NONSGML v1.0//EN
CALSCALE:GREGORIAN
METHOD:PUBLISH
X-WR-CALNAME:IEO Lemosin
X-ORIGINAL-URL:http://ieo-lemosin.org
X-WR-CALDESC:Events for IEO Lemosin
BEGIN:VTIMEZONE
TZID:Europe/Paris
BEGIN:DAYLIGHT
TZOFFSETFROM:+0100
TZOFFSETTO:+0200
TZNAME:CEST
DTSTART:20260329T010000
END:DAYLIGHT
BEGIN:STANDARD
TZOFFSETFROM:+0200
TZOFFSETTO:+0100
TZNAME:CET
DTSTART:20261025T010000
END:STANDARD
END:VTIMEZONE
BEGIN:VEVENT
DTSTART;VALUE=DATE:20260304
DTEND;VALUE=DATE:20260426
DTSTAMP:20260421T084909
CREATED:20260108T074106Z
LAST-MODIFIED:20260213T142954Z
UID:12217-1772582400-1777161599@ieo-lemosin.org
SUMMARY:Mòstra/Exposition « Dynamiques du paysage » de Stéphanie Manchon
DESCRIPTION:Mòstras #2026 – Ouverture de la saison d’expositions 2026 à la Librariá occitana \n \nL’exposition de Stéphanie Manchon propose un dialogue entre dessins au fusain et peintures en couleur\, explorant le paysage comme un ensemble de forces en mouvement. Qu’il soit traité en noir et blanc ou en couleur\, le paysage est abordé comme un espace dynamique\, traversé par la lumière\, l’atmosphère et les rythmes du vivant.\nDans les dessins\, la perspective atmosphérique\, le clair-obscur et le travail de la lumière font émerger les formes végétales\, les nuages et leurs déplacements. Les paysages se construisent dans une économie de moyens où le noir et le blanc révèlent les tensions\, les respirations et les mouvements invisibles. \nLes peintures en couleur s’attachent quant à elles aux moments de bascule : le lever et le coucher du soleil\, la nuit naissante\, l’instant entre chien et loup. La lumière y devient plus diffuse\, parfois discrète — celle de la lune — transformant le paysage en silhouettes\, en ombres\, en présences suggérées. \nDynamiques du paysage propose ainsi une lecture sensible du monde naturel\, attentive aux variations\, aux transitions et aux changements d’état\, invitant celui ou celle qui regarde à percevoir le paysage autrement : comme une expérience en perpétuelle transformation. \n> Vernissage le mercredi 4 mars à 18h30 en présence de l’artiste.\n> Exposition visible du 4 mars au 25 avril 2026 aux heures d’ouverture de la librairie : mardi & jeudi 15h00-19h00\, mercredi & vendredi 10h00-13h00 & 15h00-19h00\, samedi 10h00-13h00 / 15h00-18h00. Visite libre et gratuite.\n> Sur Instagram : https://www.instagram.com/manchonstephanie/ \nPer ne’n saubre mai – Renseignements :\nLibrariá occitana – 05 55 32 06 44 – libraria-occitana@ieo-lemosin.org \n
URL:http://ieo-lemosin.org/evenement/mostra-exposition-dynamiques-du-paysage-de-stephanie-manchon
LOCATION:Librariá occitana\, 42\, rua Viena Nauta – rue Haute-Vienne\, Limòtges – Limoges (87)
CATEGORIES:Libraria Occitana
END:VEVENT
BEGIN:VEVENT
DTSTART;TZID=Europe/Paris:20260404T110000
DTEND;TZID=Europe/Paris:20260404T120000
DTSTAMP:20260421T084909
CREATED:20230103T155656Z
LAST-MODIFIED:20260327T172438Z
UID:12371-1775300400-1775304000@ieo-lemosin.org
SUMMARY:Atelier de conversation en occitan
DESCRIPTION:« Achabatz d’entrar ! Platusser\, clamper\, barjaquer\, chapler… ne sont que quelques-uns des termes employés en langue limousine pour exprimer l’action de discuter et d’échanger entre amateurs ou passionnés\, sur tous les sujets. L’association Balad’oc Tula propose un atelier de conversation gratuit\, ouvert à tous sans connaissances particulières requises. Batalharem de tot çò que voldretz !\nAl plaser de vos vèire ! » \nPer ne’n saubre mai – Renseignements\nMichèle Chaumeil – 06 32 31 69 53 \n
URL:http://ieo-lemosin.org/evenement/atelier-de-conversation-en-occitan-abriu-2026
LOCATION:Mediateca Intercomunala Eric Rohmer\, av. Winston Churchill\, Tula – Tulle (19)
CATEGORIES:Monde Occitan
END:VEVENT
BEGIN:VEVENT
DTSTART;TZID=Europe/Paris:20260404T150000
DTEND;TZID=Europe/Paris:20260404T173000
DTSTAMP:20260421T084909
CREATED:20180912T114236Z
LAST-MODIFIED:20250808T155431Z
UID:11779-1775314800-1775323800@ieo-lemosin.org
SUMMARY:« Cafè platussant »
DESCRIPTION:« Je le comprends mais je le parle pas »\n« Je trouve (plus) personne pour parler »\n« Je le parle mais le lire… c’est compliqué ! »\n« Quand on le voit écrit\, c’est pas pareil ! » \nVenez donc passer un moment à la librairie coma la Monica Sarrasin e son esquipa pour platussar (bavarder) en occitan – « limousin » ou « patois » à votre guise !\nOn y parlera de tout et de rien\, on pourra raconter des histoires ou un bon souvenir\, chanter une chanson… et pourquoi pas\, de temps à autre\, une petite initiation en douceur à la lecture pour découvrir la richesse de l’occitan d’ici ou d’ailleurs\, sa littérature… \nE per se lançar\, un thème\, une idée\, un « son de tête » qu’on aura plaisir à suivre… ou pas : \n\n4/10/25 : Las pomas\n8/11/25 : Las paurs : tòrnas\, leberon…\n6/12/25 : Nadau en chançons\n3/01/26 : Lo lop\n7/02/26 : L’evolucion daus comercis\n7/03/26 : Lo chamin de fer\n4/04/26 : Los auseus\n2/05/26 : Juguets boissoniers\n6/06/26 : L’auratge\n\nMas tot ’quò-’quí balha set\, il sera aussi grand temps de terminer l’après-midi\, en « bargassant » autour d’une tasse de thé ou de café ! \n> Entrée libre et gratuite sans inscription préalable.\n> Chaque premier samedi du mois de 15h à 17h30. \nPer ne’n saubre mai – Renseignements\nLibrariá occitana – 05 55 32 06 44 – libraria.occitana@ieo-lemosin.org \n
URL:http://ieo-lemosin.org/evenement/cafe-platussant-26-04
LOCATION:Librariá occitana\, 42\, rua Viena Nauta – rue Haute-Vienne\, Limòtges – Limoges (87)
CATEGORIES:Libraria Occitana
END:VEVENT
BEGIN:VEVENT
DTSTART;TZID=Europe/Paris:20260404T190000
DTEND;TZID=Europe/Paris:20260404T190000
DTSTAMP:20260421T084909
CREATED:20260327T175809Z
LAST-MODIFIED:20260327T180005Z
UID:12383-1775329200-1775329200@ieo-lemosin.org
SUMMARY:Soirée consacrée au collectif Lost : Les Aventures de Volcie + Ronzes + Malval
DESCRIPTION: \nPour démarrer ce printemps on vous propose une soirée consacrée au collectif Lost avec au programme : \n\n19h : Les Aventures de Volcie\, conte musical fantastique\n20h : Ronzes\, trio de chant polyphonique\n21h : Malval\, orchestre folk et poétique\n\nLes Aventures de Volcie\n \nConte musical écologique et fantastique \n40 min\, tout public à partir de 7 ans \nCe spectacle oscille entre le merveilleux et le monstrueux mêlant conte\, théâtre et musique expérimentale et traditionnelle. Dans cette histoire il n’y a pas de bien ou de mal. Seulement des peurs mal formulées… \nLes Aventures de Volcie reflète la peur d’une société hygiéniste\, obsédée par le contrôle de tous les organismes qui la peuplent. \nRonzes\n \nTrio de chant polyphonique \nRonzes puise dans le répertoire traditionnel du Limousin\, parfois en français\, souvent en occitan. Les textes bruts ou réécrits disent des histoires comme on les imaginait et comme on se les raconte aujourd’hui. De ce répertoire\, elles nous font danser la bourrée\, la valse ou la scottish. \n→ Ne’n saubre mai – En savoir plus \nMalval\n \nOrchestre folk et poétique \nMalval a des airs géographiques ; contemplatifs\, dansants parfois. Le tout est un peu baroque. À quatre\, l’orchestre est au complet avec un fort goût pour bouger entre des époques\, des mots\, des sons\, même des paysages sans rompre les détails. \n \nCes trois formations font partie du collectif Lost in Traditions :\nhttps://www.lostintraditions.com/ \n > Restauration sur place à partir de 19h\n> Participation libre (mais nécessaire pour que ça continue !) \nPer ne’n saubre mai – Renseignements\nLa P’tite Fabrique Solidaire (cour Jean Jaurès – 19140 Uzerche) – 07 83 93 71 48 – contact@laptitefabriquesolidaire.org \n
URL:http://ieo-lemosin.org/evenement/soiree-consacree-au-collectif-lost-les-aventures-de-volcie-ronzes-malval
LOCATION:La P’tite Fabrique solidaire\, Cour Jean Jaurès\, Usercha – Uzerche (19)
CATEGORIES:Monde Occitan
END:VEVENT
END:VCALENDAR