BEGIN:VCALENDAR
VERSION:2.0
PRODID:-//IEO Lemosin - ECPv4.9.9//NONSGML v1.0//EN
CALSCALE:GREGORIAN
METHOD:PUBLISH
X-WR-CALNAME:IEO Lemosin
X-ORIGINAL-URL:http://ieo-lemosin.org
X-WR-CALDESC:Events for IEO Lemosin
BEGIN:VTIMEZONE
TZID:Europe/Paris
BEGIN:DAYLIGHT
TZOFFSETFROM:+0100
TZOFFSETTO:+0200
TZNAME:CEST
DTSTART:20260329T010000
END:DAYLIGHT
BEGIN:STANDARD
TZOFFSETFROM:+0200
TZOFFSETTO:+0100
TZNAME:CET
DTSTART:20261025T010000
END:STANDARD
END:VTIMEZONE
BEGIN:VEVENT
DTSTART;TZID=Europe/Paris:20260905T170000
DTEND;TZID=Europe/Paris:20260905T170000
DTSTAMP:20260422T003009
CREATED:20260420T110954Z
LAST-MODIFIED:20260420T110954Z
UID:12432-1788627600-1788627600@ieo-lemosin.org
SUMMARY:Soirée concert & bal avec Les Fourmis dans les pieds et Les Violons de Nedde
DESCRIPTION:\n17h-19h : Bal animé par le groupe Les Fourmis dans les pieds\n19h-20h : Repas sorti du sac\n20h30 : Concert « En menant la nòvia » par Les Violons de Nedde\n21h30 : Bal au violon avec Les Violons de Nedde\n22h15 : Suite du bal avec Les Fourmis dans les pieds\n\nPer ne’n saubre mai – Renseignements :\nAssociation Les saisons du Vieux Château – 05 55 00 94 76 \n
URL:http://ieo-lemosin.org/evenement/soiree-concert-bal-avec-les-fourmis-dans-les-pieds-et-les-violons-de-nedde
LOCATION:Le Vieux Château\, Vic – Vicq-sur-Breuilh (87)
CATEGORIES:Monde Occitan
END:VEVENT
END:VCALENDAR