BEGIN:VCALENDAR
VERSION:2.0
PRODID:-//IEO Lemosin - ECPv4.9.9//NONSGML v1.0//EN
CALSCALE:GREGORIAN
METHOD:PUBLISH
X-WR-CALNAME:IEO Lemosin
X-ORIGINAL-URL:http://ieo-lemosin.org
X-WR-CALDESC:Events for IEO Lemosin
BEGIN:VTIMEZONE
TZID:Europe/Paris
BEGIN:DAYLIGHT
TZOFFSETFROM:+0100
TZOFFSETTO:+0200
TZNAME:CEST
DTSTART:20260329T010000
END:DAYLIGHT
BEGIN:STANDARD
TZOFFSETFROM:+0200
TZOFFSETTO:+0100
TZNAME:CET
DTSTART:20261025T010000
END:STANDARD
END:VTIMEZONE
BEGIN:VEVENT
DTSTART;TZID=Europe/Paris:20260911T203000
DTEND;TZID=Europe/Paris:20260911T203000
DTSTAMP:20260422T022656
CREATED:20260216T154810Z
LAST-MODIFIED:20260216T155637Z
UID:12247-1789158600-1789158600@ieo-lemosin.org
SUMMARY:Opération « Le folklore recrute ! » – Escòla dau Mont-Gargan
DESCRIPTION:Les membres de l’association L’Escòla dau Mont-Gargan vous invitent à découvrir le folklore limousin à l’occasion de cette animation grâce à des ateliers de découverte autour de la danse\, la musique\, la langue régionale\, accessibles aux petits et grands dans une ambiance conviviale. \nCette soirée est proposée en association avec le Foyer Rural. \n> Gratuit \nPer ne’n saubre mai – Renseignements\necoledumontgargan.com – Réseaux sociaux : @escoladaumontgargan \n \n
URL:http://ieo-lemosin.org/evenement/operation-le-folklore-recrute-escola-dau-mont-gargan-3
LOCATION:Sent Liunard – Saint-Léonard-de-Noblat (87)
CATEGORIES:Monde Occitan
END:VEVENT
END:VCALENDAR