BEGIN:VCALENDAR
VERSION:2.0
PRODID:-//IEO Lemosin - ECPv4.9.9//NONSGML v1.0//EN
CALSCALE:GREGORIAN
METHOD:PUBLISH
X-WR-CALNAME:IEO Lemosin
X-ORIGINAL-URL:http://ieo-lemosin.org
X-WR-CALDESC:Events for IEO Lemosin
BEGIN:VTIMEZONE
TZID:Europe/Paris
BEGIN:DAYLIGHT
TZOFFSETFROM:+0100
TZOFFSETTO:+0200
TZNAME:CEST
DTSTART:20260329T010000
END:DAYLIGHT
BEGIN:STANDARD
TZOFFSETFROM:+0200
TZOFFSETTO:+0100
TZNAME:CET
DTSTART:20261025T010000
END:STANDARD
END:VTIMEZONE
BEGIN:VEVENT
DTSTART;TZID=Europe/Paris:20261003T143000
DTEND;TZID=Europe/Paris:20261003T143000
DTSTAMP:20260422T024143
CREATED:20250409T133732Z
LAST-MODIFIED:20260420T125952Z
UID:12434-1791037800-1791037800@ieo-lemosin.org
SUMMARY:« Rencontres trad' à Nedde » : Sentiers Ribote + La Bachule
DESCRIPTION:\n14h30-17h30 : Stage de musique d’ensemble animé par Antonin Pauquet et Colin Delzant\n14h30-17h30 : Stage de danses du Poitou animé par Benoît Roblin et Baptiste Loosfelt\n19h00 : Apéro musical offert\n21h00 : Bal trad Auvergne-Poitou avec Sentiers Ribote (Emma Cousteix – Baptiste Loosfelt) et La Bachule (Benoit Roblin – Baptiste Loosfelt – Antonin Pauquet – Colin Delzant)\n\n\n> Organisé par Rencontres Musicales de Nedde \nPer ne’n saubre mai e se marcar – Renseignements & réservations\n06 73 07 02 31 \n
URL:http://ieo-lemosin.org/evenement/rencontres-trada-nedde-sentiers-ribote-la-bachule
LOCATION:Sala de las festas – Salle des fêtes\, Neda – Nedde (87)
CATEGORIES:Monde Occitan
END:VEVENT
END:VCALENDAR