BEGIN:VCALENDAR
VERSION:2.0
PRODID:-//IEO Lemosin - ECPv4.9.9//NONSGML v1.0//EN
CALSCALE:GREGORIAN
METHOD:PUBLISH
X-WR-CALNAME:IEO Lemosin
X-ORIGINAL-URL:https://ieo-lemosin.org
X-WR-CALDESC:Events for IEO Lemosin
BEGIN:VTIMEZONE
TZID:Europe/Paris
BEGIN:DAYLIGHT
TZOFFSETFROM:+0100
TZOFFSETTO:+0200
TZNAME:CEST
DTSTART:20220327T010000
END:DAYLIGHT
BEGIN:STANDARD
TZOFFSETFROM:+0200
TZOFFSETTO:+0100
TZNAME:CET
DTSTART:20221030T010000
END:STANDARD
END:VTIMEZONE
BEGIN:VEVENT
DTSTART;VALUE=DATE:20220907
DTEND;VALUE=DATE:20221201
DTSTAMP:20260421T060600
CREATED:20220908T214058Z
LAST-MODIFIED:20220908T214332Z
UID:8858-1662508800-1669852799@ieo-lemosin.org
SUMMARY:Souscription au livre « Joan Ganhaire : Entre rire et désespoir\, un regard occitan sur l'humaine condition » – Fabienne Garnerin
DESCRIPTION:Joan Ganhaire a très vite été reconnu comme l’un des auteurs majeurs de la littérature occitane contemporaine. S’exprimant en dialecte limousin\, l’écrivain bâtit un univers mi-réel mi-imaginaire\, inspiré des paysages du Périgord et de l’Aquitaine\, qui se perçoit d’abord par les sensations. Des hommes y cherchent leur vérité. Face à la mort sans cesse possible\, face à la violence omniprésente\, face à leurs propres défaillances\, où trouver un peu de réconfort ? Les religions sont impuissantes à éradiquer le Mal. L’amitié ne fait pas disparaître le sentiment de solitude. Le seul secours reste le rire\, un rire partagé dans lequel chacun avoue ses faiblesses et reconnaît en autrui son semblable. Rire\, c’est s’éprouver ensemble dans une communauté joyeuse\, c’est exorciser le Mal\, c’est échapper à l’angoisse et retrouver sa liberté. À travers ses nhòrlas\, ses romans de cape et d’épée\, et surtout ses nouvelles fantastiques et ses romans policiers\, Joan Ganhaire explore l’âme humaine avec toutes les ressources que lui offrent la langue et la culture occitanes. \nFabienne Garnerin s’installe en Corrèze en 1979. Agrégée de lettres\, elle enseigne aussi la philosophie dans plusieurs lycées dépendants du ministère de l’Agriculture. En décembre 2020\, elle soutient la thèse de doctorat qui a inspiré ce livre. \n \n
URL:https://ieo-lemosin.org/evenement/souscription-au-livre-joan-ganhaire-entre-rire-et-desespoir-un-regard-occitan-sur-lhumaine-condition-fabienne-garnerin
CATEGORIES:Libraria Occitana
END:VEVENT
BEGIN:VEVENT
DTSTART;VALUE=DATE:20220913
DTEND;VALUE=DATE:20221016
DTSTAMP:20260421T060600
CREATED:20220407T154317Z
LAST-MODIFIED:20220802T172553Z
UID:8786-1663027200-1665878399@ieo-lemosin.org
SUMMARY:Mòstra/Exposition : Paysages limousins au lavis – Marek
DESCRIPTION: \n« En dehors de mon activité de dessinateur de BD\, une de mes grandes passions\, est d’admirer toutes les possibilités harmonieuses que la nature nous offre. Marcher dans la nature\, m’asseoir dans un paysage et en chercher le mystère\, essayer de retranscrire sa beauté sur du papier à dessin. L’encre de chine\, le pinceau et la plume\, sont mes outils favoris. C’est donc sur les formes et la lumière que je concentre mon regard\, tout en essayant de fixer un moment du monde\, un moment vécu. » \n→ Marek sur bedetheque.com \n> Vernissage vendredi 16 septembre à 18h.\n> Entrée libre aux heures d’ouverture de la librairie : mardi & jeudi 15h-19h\, mercredi & vendredi 10h-13h / 15h-19h\, samedi 10h-13h / 15h-18h. \nPer ne’n saubre mai – Renseignements :\nLibrariá occitana – 05 55 32 06 44 – libraria-occitana@ieo-lemosin.org \n
URL:https://ieo-lemosin.org/evenement/mostra-exposition-paysages-limousins-au-lavis-marek
LOCATION:Librariá occitana\, 42\, rua Viena Nauta – rue Haute-Vienne\, Limòtges – Limoges (87)
CATEGORIES:Libraria Occitana
END:VEVENT
BEGIN:VEVENT
DTSTART;TZID=Europe/Paris:20221012T183000
DTEND;TZID=Europe/Paris:20221012T183000
DTSTAMP:20260421T060600
CREATED:20220930T122945Z
LAST-MODIFIED:20221003T043046Z
UID:8883-1665599400-1665599400@ieo-lemosin.org
SUMMARY:Les troubadours limousins : Présentation du livre & dédicace – Gérard Gonfroy
DESCRIPTION: \nGérard Gonfroy viendra présenter son livre tout récemment paru sur Les troubadours limousins. \nIls ont inventé l’amour\, ils ont inventé la chanson\, ils ont inventé la chanson d’amour. Météore aussi prodigieux que fugace\, on a vu naître à l’orée du XIIe siècle sur les terres limousines une poésie lyrique en langue d’oc qui s’émancipe des thèmes religieux pour « inventer » le plus profane des sujets\, l’amour de la Dame\, objet de vénération mais aussi sujet de souffrances. Il s’agit d’un phénomène culturel inouï\, sans équivalent\, et dont le retentissement va parcourir l’Europe entière : l’amour courtois chanté par les troubadours limousins résonna de l’Angleterre à l’Allemagne\, de l’Espagne à l’Italie et même jusqu’à la lointaine Hongrie ; il accompagna les Croisés jusqu’aux terres arides de la Palestine. Cette plongée au sein des châteaux limousins (Ventadour\, Turenne\, Comborn\, Ussel\, etc.) va aussi nous permettre d’entrevoir quelques éléments de la vie quotidienne d’une époque qui nous est par nature étrangère\, car nos troubadours\, las de chanter les plaies d’amour\, se sont lancés débats et défis sur des sujets plus terre à terre : ils ont adoré guerroyer en chansons.\nMais ces vieux poèmes méritaient que l’on en renouvelle le traitement\, en privilégiant les sources purement occitanes\, en éclairant leur genèse et en élucidant les principales difficultés que l’on peut rencontrer à leur lecture : telle est l’ambition de la présente anthologie. \nTitulaire d’un doctorat portant sur les Leys d’Amors\, Gérard Gonfroy a entre autres enseigné l’ancien français et l’ancien occitan au Centre d’Études Supérieures de Civilisation Médiévale de l’Université de Poitiers\, puis ces mêmes disciplines à l’Université de Limoges. Il est l’un des rares spécialistes français de l’ancien occitan\, c’est-à-dire de la langue des troubadours. \n> Nombre de places limité : Pensez à réserver !\n> Entrée libre. \nPer ne’n saubre mai e se marcar – Renseignements et réservations\nLibrariá occitana – 05 55 32 06 44 – libraria.occitana@ieo-lemosin.org \n
URL:https://ieo-lemosin.org/evenement/les-troubadours-limousins-presentation-du-livre-dedicace-gerard-gonfroy
LOCATION:Librariá occitana\, 42\, rua Viena Nauta – rue Haute-Vienne\, Limòtges – Limoges (87)
CATEGORIES:Libraria Occitana
END:VEVENT
END:VCALENDAR