BEGIN:VCALENDAR
VERSION:2.0
PRODID:-//IEO Lemosin - ECPv4.9.9//NONSGML v1.0//EN
CALSCALE:GREGORIAN
METHOD:PUBLISH
X-WR-CALNAME:IEO Lemosin
X-ORIGINAL-URL:https://ieo-lemosin.org
X-WR-CALDESC:Events for IEO Lemosin
BEGIN:VTIMEZONE
TZID:Europe/Paris
BEGIN:DAYLIGHT
TZOFFSETFROM:+0100
TZOFFSETTO:+0200
TZNAME:CEST
DTSTART:20230326T010000
END:DAYLIGHT
BEGIN:STANDARD
TZOFFSETFROM:+0200
TZOFFSETTO:+0100
TZNAME:CET
DTSTART:20231029T010000
END:STANDARD
END:VTIMEZONE
BEGIN:VEVENT
DTSTART;VALUE=DATE:20230110
DTEND;VALUE=DATE:20230219
DTSTAMP:20260419T184240
CREATED:20220407T154317Z
LAST-MODIFIED:20221219T172149Z
UID:9072-1673308800-1676764799@ieo-lemosin.org
SUMMARY:Mòstra/Exposition : Peinture intuitive – Yvette Faguet
DESCRIPTION: \n« La peinture intuitive\, c’est l’art de peindre avec les mains de son âme.\nJe me laisse guider pour le choix des couleurs\, le plus souvent à l’aveugle.\nParfois en musique\, mes mains vont là où elles le souhaitent\, en contact avec mon état de présence\, sans que le mental s’attache à un quelconque résultat.\nC’est ma propre résonance intérieure qui dépose un langage personnel sur la toile. » \n> Vernissage mercredi 11 janvier à 18h\, en présence de l’artiste.\n> Visite libre aux heures d’ouverture de la librairie : mardi & jeudi 15h-19h\, mercredi & vendredi 10h-13h / 15h-19h\, samedi 10h-13h / 15h-18h. \nPer ne’n saubre mai – Renseignements :\nLibrariá occitana – 05 55 32 06 44 – libraria-occitana@ieo-lemosin.org \n
URL:https://ieo-lemosin.org/evenement/mostra-exposition-peinture-intuitive-yvette-faguet
LOCATION:Librariá occitana\, 42\, rua Viena Nauta – rue Haute-Vienne\, Limòtges – Limoges (87)
CATEGORIES:Libraria Occitana
END:VEVENT
BEGIN:VEVENT
DTSTART;TZID=Europe/Paris:20230203T203000
DTEND;TZID=Europe/Paris:20230203T203000
DTSTAMP:20260419T184240
CREATED:20221010T134518Z
LAST-MODIFIED:20230111T115132Z
UID:9118-1675456200-1675456200@ieo-lemosin.org
SUMMARY:Parladissa « 50 ans de littérature limousine d'expression occitane » – Jan Dau Melhau
DESCRIPTION: \nAprès avoir\, à grands pas\, parcouru près de 900 ans de création occitane en Limousin\, des troubadours à la renaissance félibréenne\, on verra combien la littérature du dernier demi-siècle\, forte d’une trentaine d’auteurs\, est riche et variée. On les citera tous mais\, des œuvres d’une douzaine\, on lira des extraits dont on donnera aussi la traduction française.\nCette littérature ne le cède en rien à celle des autres grands dialectes occitans. \nJan dau Melhau a été\, au long de ce demi-siècle\, un des principaux acteurs et témoins de cette création\, comme auteur\, dans bien des genres littéraires\, artiste du spectacle\, chroniqueur à la radio\, animateur de revues\, éditeur. \n> En français.\n> Tarif : Participation libre.\n> Nombre de places limité : Pensez à réserver au 05 55 32 06 44. \nPer ne’n saubre mai – Renseignements\nLibrariá occitana – 05 55 32 06 44 – libraria-occitana@ieo-lemosin.org \n
URL:https://ieo-lemosin.org/evenement/parladissa-50-ans-de-litterature-limousine-dexpression-occitane-jan-dau-melhau
LOCATION:Librariá occitana\, 42\, rua Viena Nauta – rue Haute-Vienne\, Limòtges – Limoges (87)
CATEGORIES:Monde Occitan
END:VEVENT
END:VCALENDAR