BEGIN:VCALENDAR
VERSION:2.0
PRODID:-//IEO Lemosin - ECPv4.9.9//NONSGML v1.0//EN
CALSCALE:GREGORIAN
METHOD:PUBLISH
X-WR-CALNAME:IEO Lemosin
X-ORIGINAL-URL:https://ieo-lemosin.org
X-WR-CALDESC:Events for IEO Lemosin
BEGIN:VTIMEZONE
TZID:Europe/Paris
BEGIN:DAYLIGHT
TZOFFSETFROM:+0100
TZOFFSETTO:+0200
TZNAME:CEST
DTSTART:20230326T010000
END:DAYLIGHT
BEGIN:STANDARD
TZOFFSETFROM:+0200
TZOFFSETTO:+0100
TZNAME:CET
DTSTART:20231029T010000
END:STANDARD
END:VTIMEZONE
BEGIN:VEVENT
DTSTART;VALUE=DATE:20230516
DTEND;VALUE=DATE:20230702
DTSTAMP:20260419T124014
CREATED:20220407T154317Z
LAST-MODIFIED:20230428T105528Z
UID:9431-1684195200-1688255999@ieo-lemosin.org
SUMMARY:Mòstra/Exposition « Voyages imaginaires » : Pastel – Flanet
DESCRIPTION: \n« Ma démarche actuelle dans ma peinture s’explique par un lâcher prise\, comme se jeter dans le vide\, se laisser emmener… franchir mes hésitations. Mettre mon expérience à la fois technique et artistique au service du geste spontané. L’inconnu du résultat pour revenir à la pureté de l’expérience immédiate où s’exprime la pureté de l’Être. Le jeu des traits fins\, serrés\, toniques\, ponctués de plus petits sont une vraie danse… Liberté\, fraîcheur sont les maîtres mots. Dépouillement total du geste\, essentiel et profond\, pour puiser un renouvellement existentiel et poétique. La couleur reprend sa place en tant que créatrice d’univers; elle n’est plus celle qui est au service du dessin\, mais elle joue avec les rythmes imprimés….\nLiberté et expression directe ; émotion-couleur.\nLa création est là\, pure ! » \n> Vernissage mercredi 17 mai à 18h\, en présence de l’artiste.\n> Visite libre aux heures d’ouverture de la librairie : mardi & jeudi 15h-19h\, mercredi & vendredi 10h-13h / 15h-19h\, samedi 10h-13h / 15h-18h. \nPer ne’n saubre mai – Renseignements :\nLibrariá occitana – 05 55 32 06 44 – libraria-occitana@ieo-lemosin.org \n
URL:https://ieo-lemosin.org/evenement/mostra-exposition-voyages-imaginaires-pastel-flanet
LOCATION:Librariá occitana\, 42\, rua Viena Nauta – rue Haute-Vienne\, Limòtges – Limoges (87)
CATEGORIES:Libraria Occitana
END:VEVENT
BEGIN:VEVENT
DTSTART;TZID=Europe/Paris:20230701T200000
DTEND;TZID=Europe/Paris:20230701T200000
DTSTAMP:20260419T124014
CREATED:20220712T142357Z
LAST-MODIFIED:20230531T163700Z
UID:9526-1688241600-1688241600@ieo-lemosin.org
SUMMARY:Concert Trio Rosàm
DESCRIPTION: \nRomain Olive : Chant\nPierre Glorieux : Oud\, percussions et chœur\nDenis Spriet : Accordéon et chœur \nRomain\, Denis et Pierre\, trois musiciens plein d’esprit et de spontanéité revisitent les tubes de l’âge d’or médiéval occitan. Ces ménestrels des temps modernes font revivre ces musiques et poèmes d’une manière étonnamment vivante et actuelle. Des chants d’amour poétiques à la musique rythmée des mariages\, des berceuses traditionnelles aux polyphonies des bergers\, c’est toute la richesse culturelle d’une époque qui renaît lors des concerts du trio Rosàm. \nLa voix profonde de Romain accompagnés énergiquement par Denis à l’accordéon et par les sonorités orientales du oud (luth arabe) et des percussions de Pierre\, nous projette dans un voyage musical aux temps des troubadours\, de l’Andalousie à l’Occitanie. \n \n> Tarif : Participation libre au chapeau au profit de l’association Petit Patrimoine\, Grandes Causes. \nPer ne’n saubre mai – Renseignements\nMairie de Gentioux-Pigerolles – 05 55 67 90 14 \n
URL:https://ieo-lemosin.org/evenement/concert-trio-rosam
LOCATION:Egleisa- Église\, Pigeròu – Pigerolles (23)
CATEGORIES:Monde Occitan
END:VEVENT
END:VCALENDAR