BEGIN:VCALENDAR
VERSION:2.0
PRODID:-//IEO Lemosin - ECPv4.9.9//NONSGML v1.0//EN
CALSCALE:GREGORIAN
METHOD:PUBLISH
X-WR-CALNAME:IEO Lemosin
X-ORIGINAL-URL:https://ieo-lemosin.org
X-WR-CALDESC:Events for IEO Lemosin
BEGIN:VTIMEZONE
TZID:Europe/Paris
BEGIN:DAYLIGHT
TZOFFSETFROM:+0100
TZOFFSETTO:+0200
TZNAME:CEST
DTSTART:20230326T010000
END:DAYLIGHT
BEGIN:STANDARD
TZOFFSETFROM:+0200
TZOFFSETTO:+0100
TZNAME:CET
DTSTART:20231029T010000
END:STANDARD
END:VTIMEZONE
BEGIN:VEVENT
DTSTART;VALUE=DATE:20230704
DTEND;VALUE=DATE:20230903
DTSTAMP:20260420T045056
CREATED:20220407T154317Z
LAST-MODIFIED:20230627T181231Z
UID:9657-1688428800-1693699199@ieo-lemosin.org
SUMMARY:Mòstra/Exposition « Impressions d'été » : Gravures de l'atelier Eau forte
DESCRIPTION: \nAvec des œuvres de Véronique Beaure d’Augères\, Marylène Chalmin\, Niurka Iñurrieta\, Martine Marion\, Françoise Pecher\, Françoise Perrais\, Isabelle Serve\, Jan-Marc Simeonin\, Marianne Tixeuil & Annie Veyriras. \n> Vernissage mercredi 5 juillet à 18h\, en présence des artistes.\n> Visite libre aux heures d’ouverture de la librairie : mardi & jeudi 15h-19h\, mercredi & vendredi 10h-13h / 15h-19h\, samedi 10h-13h / 15h-18h.\n> Attention horaires d’été : du 7 au 27 août\, la librairie fermera tous les jours à 18h. \nPer ne’n saubre mai – Renseignements :\nLibrariá occitana – 05 55 32 06 44 – libraria-occitana@ieo-lemosin.org \n
URL:https://ieo-lemosin.org/evenement/mostra-exposition-impressions-dete-gravures-de-latelier-eau-forte
LOCATION:Librariá occitana\, 42\, rua Viena Nauta – rue Haute-Vienne\, Limòtges – Limoges (87)
CATEGORIES:Libraria Occitana
END:VEVENT
BEGIN:VEVENT
DTSTART;VALUE=DATE:20230708
DTEND;VALUE=DATE:20230726
DTSTAMP:20260420T045056
CREATED:20230724T172851Z
LAST-MODIFIED:20230724T172851Z
UID:9794-1688774400-1690329599@ieo-lemosin.org
SUMMARY:Tapisserie hommage au poète Paul-Louis Grenier et autres œuvres de Jan-Marc Simeonin
DESCRIPTION: \nPer ne’n saubre mai – Renseignements\nMédiathèque Intercommunale Creuse Confluence (3 Av. Georges Clémenceau – 23170 Chambon-sur-Voueize) – 05 55 65 66 21 – mediathequechambon@creuseconfluence.com \n
URL:https://ieo-lemosin.org/evenement/tapisserie-hommage-au-poete-paul-louis-grenier-et-autres-oeuvres-de-jan-marc-simeonin
LOCATION:Mediateca intercomunala – Médiathèque intercommunale\, Chambon-sur-Voueize (23)
CATEGORIES:Monde Occitan
END:VEVENT
BEGIN:VEVENT
DTSTART;TZID=Europe/Paris:20230711T110000
DTEND;TZID=Europe/Paris:20230711T140000
DTSTAMP:20260420T045056
CREATED:20230626T150143Z
LAST-MODIFIED:20230626T150518Z
UID:9650-1689073200-1689084000@ieo-lemosin.org
SUMMARY:Festenau Lenga viva : 'Talhier de cosina « Quò es bien bon ! / C'est bien bon ! » – Jan-Màri Caunet
DESCRIPTION:Dans le cadre de Lenga Viva – Universitat Occitana de Laguépie du 11 au 16 juillet 2023. \n \nComment nous apprendrons à faire une recette traditionnelle de cette montagne limousine : la farça dura / la farce dure\, farce végétale à la\nmode du pays.\nLe temps de la cuisson\, sera l’occasion d’une découverte de l’alimentation traditionnelle d’ici\, qu’elle soit végétale ou animale et nous permettra une réflexion sur l’autonomie\, la frugalité par nos temps incertains.\nPols de blat negre / bouillie de blé noir\, crespas / crêpes\, sopas / soupes\, ganhons e oelhas saladas / cochons et brebis salés\, abarnons e berberòtas / noisettes de terre et canneberges\, la découverte d’une palette alimentaire parfois oubliée. \n> À la maison de l’Université occitane (à côté du bar du Viaur).\n> Mardi 11 et mercredi 12 juillet de 11h à 14h.\n> Tarif : 60€ pour les deux jours.\n> Places : 10 personnes maximum. \nPer ne’n saubre mai e se marcar – Renseignements et inscriptions\nJan-Màri Caunet – jm.caunet@ieo-lemosin.org – 06 78 27 54 42 \n
URL:https://ieo-lemosin.org/evenement/festenau-lenga-viva-talhier-de-cosina-quo-es-bien-bon-cest-bien-bon-jan-mari-caunet
LOCATION:Universitat Occitana\, La Guépia – Université Occitane\, Laguépie (82)
CATEGORIES:IEO Lemosin
END:VEVENT
BEGIN:VEVENT
DTSTART;TZID=Europe/Paris:20230711T180000
DTEND;TZID=Europe/Paris:20230711T180000
DTSTAMP:20260420T045056
CREATED:20230615T153252Z
LAST-MODIFIED:20230704T192110Z
UID:9632-1689098400-1689098400@ieo-lemosin.org
SUMMARY:Pradelada contada / Balade contée : Un air de campagne – Jean-François Vignaud
DESCRIPTION: \nJean-François Vignaud\, de l’IEO Lemosin\, vous accompagne le temps d’une balade en occitan/français à Landouge. Découvrez un Limoges rural méconnu en traversant les villages du Coudert\, du Mas Loge et de Chez Fournier. \n> Durée : 2h.\n> Tarif : 10 €\, réduit 8 €.\n> Réservation et règlement obligatoires auprès de l’Office de Tourisme.\n> 4 dates pour cette balade de l’été : 11 & 18 juillet puis les 22 & 29 août 2023. \nPer ne’n saubre mai – Renseignements\nOffice de Tourisme de Limoges Métropole (12 Boulevard de Fleurus – 87000 Limoges) – 05 55 34 46 87 – https://www.destination-limoges.com/\nRéservation et paiement possibles en ligne\, par téléphone (en paiement à distance) et à l’accueil de l’Office de Tourisme. \n
URL:https://ieo-lemosin.org/evenement/pradelada-contada-balade-contee-un-air-de-campagne-jean-francois-vignaud-11-07
LOCATION:Parking de la Roseraie municipale\, Limòtges – Limoges (87)
CATEGORIES:IEO Lemosin
END:VEVENT
END:VCALENDAR