BEGIN:VCALENDAR
VERSION:2.0
PRODID:-//IEO Lemosin - ECPv4.9.9//NONSGML v1.0//EN
CALSCALE:GREGORIAN
METHOD:PUBLISH
X-WR-CALNAME:IEO Lemosin
X-ORIGINAL-URL:https://ieo-lemosin.org
X-WR-CALDESC:Events for IEO Lemosin
BEGIN:VTIMEZONE
TZID:Europe/Paris
BEGIN:DAYLIGHT
TZOFFSETFROM:+0100
TZOFFSETTO:+0200
TZNAME:CEST
DTSTART:20230326T010000
END:DAYLIGHT
BEGIN:STANDARD
TZOFFSETFROM:+0200
TZOFFSETTO:+0100
TZNAME:CET
DTSTART:20231029T010000
END:STANDARD
END:VTIMEZONE
BEGIN:VEVENT
DTSTART;VALUE=DATE:20230704
DTEND;VALUE=DATE:20230903
DTSTAMP:20260421T004311
CREATED:20220407T154317Z
LAST-MODIFIED:20230627T181231Z
UID:9657-1688428800-1693699199@ieo-lemosin.org
SUMMARY:Mòstra/Exposition « Impressions d'été » : Gravures de l'atelier Eau forte
DESCRIPTION: \nAvec des œuvres de Véronique Beaure d’Augères\, Marylène Chalmin\, Niurka Iñurrieta\, Martine Marion\, Françoise Pecher\, Françoise Perrais\, Isabelle Serve\, Jan-Marc Simeonin\, Marianne Tixeuil & Annie Veyriras. \n> Vernissage mercredi 5 juillet à 18h\, en présence des artistes.\n> Visite libre aux heures d’ouverture de la librairie : mardi & jeudi 15h-19h\, mercredi & vendredi 10h-13h / 15h-19h\, samedi 10h-13h / 15h-18h.\n> Attention horaires d’été : du 7 au 27 août\, la librairie fermera tous les jours à 18h. \nPer ne’n saubre mai – Renseignements :\nLibrariá occitana – 05 55 32 06 44 – libraria-occitana@ieo-lemosin.org \n
URL:https://ieo-lemosin.org/evenement/mostra-exposition-impressions-dete-gravures-de-latelier-eau-forte
LOCATION:Librariá occitana\, 42\, rua Viena Nauta – rue Haute-Vienne\, Limòtges – Limoges (87)
CATEGORIES:Libraria Occitana
END:VEVENT
BEGIN:VEVENT
DTSTART;VALUE=DATE:20230708
DTEND;VALUE=DATE:20230726
DTSTAMP:20260421T004311
CREATED:20230724T172851Z
LAST-MODIFIED:20230724T172851Z
UID:9794-1688774400-1690329599@ieo-lemosin.org
SUMMARY:Tapisserie hommage au poète Paul-Louis Grenier et autres œuvres de Jan-Marc Simeonin
DESCRIPTION: \nPer ne’n saubre mai – Renseignements\nMédiathèque Intercommunale Creuse Confluence (3 Av. Georges Clémenceau – 23170 Chambon-sur-Voueize) – 05 55 65 66 21 – mediathequechambon@creuseconfluence.com \n
URL:https://ieo-lemosin.org/evenement/tapisserie-hommage-au-poete-paul-louis-grenier-et-autres-oeuvres-de-jan-marc-simeonin
LOCATION:Mediateca intercomunala – Médiathèque intercommunale\, Chambon-sur-Voueize (23)
CATEGORIES:Monde Occitan
END:VEVENT
BEGIN:VEVENT
DTSTART;VALUE=DATE:20230721
DTEND;VALUE=DATE:20230724
DTSTAMP:20260421T004311
CREATED:20230720T072831Z
LAST-MODIFIED:20230720T072831Z
UID:9716-1689897600-1690156799@ieo-lemosin.org
SUMMARY:Bloem Bloem Festival : Caniar + Ramdam Fatal
DESCRIPTION:Vendredi 21 juillet à 20h : Bal trad avec Caniar\n \nMusique du Limousin / Massif Central \nArmand Brenon : Accordéon diatonique\nNino Clavé-Chastang : Chabrette\nCamille Desthiange : Violon Vielle à roue \nSamedi 22 juillet à 0h30 : Ramdam Fatal\, orchestre vociférant\nRamdam Fatal est une cérémonie infernale célébrant la rencontre entre quatre musiciens de la compagnie l’Excentrale et le trio Ultra Zook. Ramdam Fatal est un déconfinement brutal des musiques d’Auvergne\, depuis le ventre rougeoyant d’une chimère nouvelle. Ramdam Fatal est un chapelet de borborygmes produit par un hydre à sept têtes composé de cuivres\, de violons\, de voix\, de basse\, de clavier\, de batterie. Ramdam Fatal est un orchestre de bal à moitié électrique\, vociférant et épileptique\, qui raconte sur les parquets de danse des histoires de possession carnavalesque\, de folie collective et de rythmes échevelés de nuits blanches. Ramdam Fatal est une incantation bruyante\, adressée aux esprits de la danse. \nFélix Gibert : Direction\, trombone\nFrançois Arbon : Saxophone basse\, trombone basse\nClémence Cognet : Violon\, trombone\, voix\nRomain “Wilton” Maurel : Violon\, voix\nBenjamin Bardiaux : Claviers\, voix\nRémi Faraut : Batterie\, voix\nManu Siachoua : Basse\, voix \n \n→ Programmation complète du festival ICI \nPer ne’n saubre mai – Renseignements\nBloem Bloem – bloembloem@mailo.com \n \n
URL:https://ieo-lemosin.org/evenement/bloem-bloem-festival-caniar-ramdam-fatal
LOCATION:Busseix\, Ladinhac – Ladignac-le-Long (87)
CATEGORIES:Monde Occitan
END:VEVENT
BEGIN:VEVENT
DTSTART;TZID=Europe/Paris:20230722T150000
DTEND;TZID=Europe/Paris:20230723T190000
DTSTAMP:20260421T004311
CREATED:20230630T100947Z
LAST-MODIFIED:20230630T100947Z
UID:9664-1690038000-1690138800@ieo-lemosin.org
SUMMARY:C’est la fête à la Belette 2023
DESCRIPTION: \nFête conviviale pour tous et avec tous \nSamedi 22 juillet\n\n15h : Présentation de 3 courts-métrages sur la danse traditionnelle\n2 films de Pascal Boudy (IEO Lemosin) en hommage à Marcel Belette\n« Les bals clandestins en Corrèze » (prêt du Pôle Musées de Tulle) : Les témoignages ont été recueillis par le Pôle Musées de la Ville de Tulle avec l’aide de l’association Peuple et Culture et du Centre Régional des Musiques Traditionnelles dans le cadre de l’exposition « Mémoires partagées » présentée au musée du Cloître en 2016. De ces témoignages est née une installation vidéo\, nommée Bals Clandestins\, créée et montée par le collectif Lost In Traditions.\n\n\n16h-18h : Atelier d’initiation aux danses traditionnelles\, avec Jérôme Farges\n\n\n18h15-18h45 : Spectacle « Un autre bal »\nDanse Trad revisitée (10 danseurs et des musiciens)\, orchestrée par la cie Le grand atelier.\n\n\n19h : Bal Trad – sur parquet – avec « Zic zad » – une dizaine de musiciens/musiciennes\nZic-Zad (muZic pour Zone à Danser) est un groupe composé de musiciens et musiciennes de la Corrèze qui se rencontrent régulièrement dans les bals ou animations « Trad » de la région. Au fil du temps et des rencontres\, ils se sont groupés pour former un ensemble musical dynamique. Une diversité d’instruments sont réunis pour le plaisir des oreilles et des yeux : guitare\, banjo\, accordéons chromatiques et diatoniques\, cornemuse du Centre France\, mandoline\, violon\, clarinette… Le groupe interprète un répertoire originaire de France\, d’Europe et du Monde. Sur des rythmes de bourrées\, scottish\, mazurka\, valses\, rondeaux\, hanter-dro\, cercles…\, et que ça danse !\n« Le plancher tremble » (Limoges)\nLe Plancher Tremble est né du rassemblement d’une quinzaine de musicien.ne.s passionné.e.s de musique traditionnelle\, autour d’un répertoire essentiellement limousin. Les accordéons diatoniques\, les vielles à roue\, les cornemuses\, les violons et les chants sont au service d’une musique joyeuse\, toujours dynamique qui prend ses racines dans la danse. Leur présence à Orgnac en 2022 a été très remarquée !\n\nLa Buvette de la Belette vous accueillera à la Forge et vous pourrez vous restaurer auprès des foodtrucks «Thaï Garden» (délicieuses recettes thaïlandaises) et «By VA» (succulents burgers façon corrézienne\, viande 100% limousine). \nDimanche 23 juillet\n\n16h30 : Concert dansé : spectacle original créé par les cies chorégraphiques Josefa et Le grand atelier qui invitent la Fanfare des belous de Treignac.\nUn collectif de musicien·ne·s qui nous régale de reprises de morceaux de styles très variés\, et tout ça dans le plaisir et la bonne humeur.\nDanseurs et musiciens\, dans un joyeux partage\, envahiront la place de l’église\, les plus beaux costumes seront de la parade…\n17h30 : Goûter champêtre à la découverte de multiples saveurs : des pâtissiers/pâtissières auront concocté du bon et du beau et des boissons originales compléteront ces plaisirs.\n\n> Organisé par La petite belette.\n> Remerciements : CRMTL – Mairie d’Orgnac – Crédit agricole – Pôle musées de Tulle – IEO Lemosin – Lost in tradition. \nPer ne’n saubre mai – Renseignements :\nLa petite belette (36 Place de l’église – 19410 Orgnac-sur-Vézère) – lapetitebelette19@gmail.com – 06 76 86 94 51 \n
URL:https://ieo-lemosin.org/evenement/cest-la-fete-a-la-belette-2023
LOCATION:Plaça de l’Egleisa – Place de l’Église\, Ornhac de Vesera – Orgnac-sur-Vézère (19)
CATEGORIES:IEO Lemosin,Monde Occitan
END:VEVENT
BEGIN:VEVENT
DTSTART;TZID=Europe/Paris:20230723T100000
DTEND;TZID=Europe/Paris:20230723T210000
DTSTAMP:20260421T004311
CREATED:20230720T061703Z
LAST-MODIFIED:20230720T061850Z
UID:9698-1690106400-1690146000@ieo-lemosin.org
SUMMARY:Festa de las Ròsas : Francesa Dudognon en dedicaça
DESCRIPTION:Francesa Dudognon dedicaçará sos libres sus lo banc de la Librariá Ventadorn. \n \n→ Ne’n saubre mai sus Francesa Dudognon \n→ Ne’n saubre mai sus la Festa de las Ròsas \n
URL:https://ieo-lemosin.org/evenement/festa-de-las-rosas-francesa-dudognon-en-dedicaca
LOCATION:Clédat\, Grand Sanha – Grandsaigne (19)
CATEGORIES:IEO Lemosin
END:VEVENT
END:VCALENDAR