BEGIN:VCALENDAR
VERSION:2.0
PRODID:-//IEO Lemosin - ECPv4.9.9//NONSGML v1.0//EN
CALSCALE:GREGORIAN
METHOD:PUBLISH
X-WR-CALNAME:IEO Lemosin
X-ORIGINAL-URL:https://ieo-lemosin.org
X-WR-CALDESC:Events for IEO Lemosin
BEGIN:VTIMEZONE
TZID:Europe/Paris
BEGIN:DAYLIGHT
TZOFFSETFROM:+0100
TZOFFSETTO:+0200
TZNAME:CEST
DTSTART:20240331T010000
END:DAYLIGHT
BEGIN:STANDARD
TZOFFSETFROM:+0200
TZOFFSETTO:+0100
TZNAME:CET
DTSTART:20241027T010000
END:STANDARD
END:VTIMEZONE
BEGIN:VEVENT
DTSTART;VALUE=DATE:20240910
DTEND;VALUE=DATE:20241103
DTSTAMP:20260425T104455
CREATED:20240328T223027Z
LAST-MODIFIED:20240809T132551Z
UID:10730-1725926400-1730591999@ieo-lemosin.org
SUMMARY:Mòstra/Exposition « Mots e pinceus : Quasernet d'un viatge entre Òlt e Garona » – Coline Eberhard
DESCRIPTION:\n \nLa carnettiste Coline Eberhard présente des dessins et carnets de voyage remplis au fil de déambulations autour de Villeneuve-sur-Lot. Textes et pigments d’aquarelle colorent les pages blanches\, reflètent les tonalités du printemps et de l’été entre le Lot et la Garonne. Cette exploration picturale\, géographique et linguistique lie l’intime du carnet à celui des gens rencontrés en chemin. Leurs mots influencent les dessins\, les expressions occitanes marquent les pages de paysages. Le projet est né d’une résidence artistique à la Maison Forte\, Monbalen. \n> Vernissage mardi 10 septembre à 18h en présence de l’artiste.\n> Visite libre et gratuite aux heures d’ouverture de la librairie : mardi & jeudi 15h-19h\, mercredi & vendredi 10h-13h / 15h-19h\, samedi 10h-13h / 15h-18h. \nPer ne’n saubre mai – Renseignements :\nLibrariá occitana – 05 55 32 06 44 – libraria-occitana@ieo-lemosin.org \n\n
URL:https://ieo-lemosin.org/evenement/mostra-exposition-mots-e-pinceus-quasernet-dun-viatge-entre-olt-e-garona-coline-eberhard
LOCATION:Librariá occitana\, 42\, rua Viena Nauta – rue Haute-Vienne\, Limòtges – Limoges (87)
CATEGORIES:Libraria Occitana
END:VEVENT
BEGIN:VEVENT
DTSTART;VALUE=DATE:20240930
DTEND;VALUE=DATE:20241231
DTSTAMP:20260425T104455
CREATED:20240418T151336Z
LAST-MODIFIED:20241004T154910Z
UID:10881-1727654400-1735603199@ieo-lemosin.org
SUMMARY:« Du côté de Germont » de Renaud Fély en linha sus Òc Tele
DESCRIPTION: \nPoète et paysanne\, Marcelle Delpastre a toujours vécu à Germont en Corrèze. Au moment où sa maison est vendue et va perdre toute trace de sa présence\, nous revenons Du côté de Germont\, lieu de mémoire et d’héritage de cette créatrice singulière. \nPer ne’n saubre mai – Renseignements\nhttps://www.octele.com/Devers-germont_fiche_4652.html \n
URL:https://ieo-lemosin.org/evenement/lo-filme-du-cote-de-germont-de-renaud-fely-sus-oc-tele
LOCATION:ÒC Tele
CATEGORIES:Monde Occitan
END:VEVENT
BEGIN:VEVENT
DTSTART;TZID=Europe/Paris:20241005T200000
DTEND;TZID=Europe/Paris:20241020T200000
DTSTAMP:20260425T104455
CREATED:20240917T173300Z
LAST-MODIFIED:20240927T162652Z
UID:10804-1728158400-1729454400@ieo-lemosin.org
SUMMARY:Veillée occitane avec Jean-François Vignaud et le groupe de musique traditionnelle Tornarem
DESCRIPTION:Dans le cadre de la Quinzaine d’octobre « De la graine à l’assiette » du 5 au 20 octobre 2024. \nLa Quinzaine d’octobre revient cette année avec le thème « De la graine à l’assiette ». Au programme : exposition\, cinéma\, conférences\, ateliers\, veillée occitane\, balades découvertes\, repas du dimanche etc… \n→ Voir la programmation complète de la Quinzaine \nPer ne’n saubre mai – Renseignements\nCulture en tête – 05 55 53 43 23 \n \n
URL:https://ieo-lemosin.org/evenement/veillee-occitane-avec-jean-francois-vignaud-et-le-groupe-de-musique-traditionnelle-tornarem
LOCATION:Sala de las festas – Salle des fêtes\, Samatiá – Saint-Mathieu (87)
CATEGORIES:IEO Lemosin,Monde Occitan
END:VEVENT
BEGIN:VEVENT
DTSTART;TZID=Europe/Paris:20241019T150000
DTEND;TZID=Europe/Paris:20241019T170000
DTSTAMP:20260425T104455
CREATED:20230505T085120Z
LAST-MODIFIED:20241014T104115Z
UID:10940-1729350000-1729357200@ieo-lemosin.org
SUMMARY:BlaBla Café Occitan limousin
DESCRIPTION:Le CAP de Panazol vous propose une nouvelle rencontre « BlaBla Language Exchange » autour d’un café ou d’un thé\, durant laquelle vous allez pouvoir échanger\, écouter ou apprendre la langue occitane au sein d’un groupe vivant et convivial. Le mot d’ordre de cette rencontre est PER PASSAR LO TEMPS (pour passer le temps). \nBlaBla Language Exchange ? Quésako ? :\nLa communauté BlaBla Language Exchange se donne pour mission d’organiser des événements linguistiques gratuit\, afin de permettre des échanges culturels entre communautés locales et expatriés d’une même ville. Le rendez-vous se passe autour d’un thé ou d’un café et il est animé par un membre volontaire. Une discussion libre ou un thème choisi par l’ensemble des participants donne le fil conducteur du rendez-vous. L’entrée est gratuite\, ouverte à tous (débutant ou expert) et se fait sur inscription. \nPer ne’n saubre mai e se marcar – Renseignement & inscriptions\n05 55 06 06 20 – capanazol@gmail.com \n \n
URL:https://ieo-lemosin.org/evenement/blabla-cafe-occitan-19-octobre-2024
LOCATION:CAP Panazol\, 9 Rue Jacques Prévert\, Panasòu – Panazol (87)
CATEGORIES:Monde Occitan
END:VEVENT
BEGIN:VEVENT
DTSTART;TZID=Europe/Paris:20241019T160000
DTEND;TZID=Europe/Paris:20241019T193000
DTSTAMP:20260425T104455
CREATED:20241004T152557Z
LAST-MODIFIED:20241004T152557Z
UID:10875-1729353600-1729366200@ieo-lemosin.org
SUMMARY:Atelier cuisine « Batalhar e topinar » : Recettes traditionnelles de la Montagne limousine – Jan-Màri Caunet
DESCRIPTION: \n
URL:https://ieo-lemosin.org/evenement/atelier-cuisine-batalhar-e-topinar-recettes-traditionnelles-de-la-montagne-limousine-jan-mari-caunet
LOCATION:Mediateca intercomunala – Médiathèque intercommunale\, plaça – place Courtaud\, Falatin – Felletin (23)
CATEGORIES:IEO Lemosin,Monde Occitan
END:VEVENT
END:VCALENDAR